BEGIN:VCALENDAR
VERSION:2.0
PRODID:-//wp-events-plugin.com//7.2.3.1//EN
TZID:Europe/Berlin
X-WR-TIMEZONE:Europe/Berlin
BEGIN:VEVENT
UID:0-1518@gruene-xhain.de
DTSTART;TZID=Europe/Berlin:20250501T140000
DTEND;TZID=Europe/Berlin:20250501T190000
DTSTAMP:20250424T123117Z
URL:https://gruene-xhain.de/veranstaltungen/1-mai-vorm-igelbau/
SUMMARY:1. Mai - Komm vorbei! Mit Monika Herrmann\, guter Laune\, Kaltgetr
 änken und klarer Haltung!
DESCRIPTION:&nbsp\;\n\n\n\n\n\n\nWie jedes Jahr wollen wir am 1. Mai Präse
 nz im Kiez zeigen – diskutieren\, plaudern oder einfach gemeinsam in der
  Sonne vorm Igelbau abhängen. Dieses Jahr wieder mit dabei: Monika Herrma
 nn\, gute Laune\, Kaltgetränke und klare Haltung!\n\nAußerdem planen wir
 : Aktive Präsenz beim Stand vorm Görli!\nDer liebe Vito übernimmt die K
 oordination – wir wollen von 12 bis 18 Uhr mit einem Stand präsent sein
  und freuen uns über alle\, die eine Schicht übernehmen können. Keine S
 orge: Niemand steht allein!\n\nKommt zahlreich\, sowohl vor den Igelbau\, 
 alsauch in den Görli!\n\n\n\n\n\n\n\n
ATTACH;FMTTYPE=image/jpeg:https://gruene-xhain.de/wp-content/uploads/2025/
 04/Stammtisch-1080-x-1350-px3.jpg
LOCATION:Igelbau\, Dresdener Straße 10\, Berlin\, 10999\, Deutschland
GEO:52.500571;13.417794
X-APPLE-STRUCTURED-LOCATION;VALUE=URI;X-ADDRESS=Dresdener Straße 10\, Berl
 in\, 10999\, Deutschland;X-APPLE-RADIUS=100;X-TITLE=Igelbau:geo:52.500571,
 13.417794
END:VEVENT
BEGIN:VTIMEZONE
TZID:Europe/Berlin
X-LIC-LOCATION:Europe/Berlin
BEGIN:DAYLIGHT
DTSTART:20250330T030000
TZOFFSETFROM:+0100
TZOFFSETTO:+0200
TZNAME:CEST
END:DAYLIGHT
END:VTIMEZONE
END:VCALENDAR