BEGIN:VCALENDAR
VERSION:2.0
PRODID:-//wp-events-plugin.com//7.2.3.1//EN
TZID:Europe/Berlin
X-WR-TIMEZONE:Europe/Berlin
BEGIN:VEVENT
UID:0-1393@gruene-xhain.de
DTSTART;TZID=Europe/Berlin:20250214T200000
DTEND;TZID=Europe/Berlin:20250214T220000
DTSTAMP:20250210T154836Z
URL:https://gruene-xhain.de/veranstaltungen/a100-welche-konsequenzen-hat-d
 ie-eroeffnung-des-16-bauabschnitts/
SUMMARY:A100 – Welche Konsequenzen hat die Eröffnung des 16. Bauabschnit
 ts?
DESCRIPTION:Schon heute ist das Verkehrschaos rund um die Elsenbrücke eine
  schwere Belastung für alle\, die sich dort bewegen – egal ob mit dem A
 uto oder Bus im Stau\, mit dem Rad oder zu Fuß. Die Probleme drohen sich 
 zu verschärfen\, sobald der 16. Bauabschnitt der A100 in diesem Jahr erö
 ffnet werden soll. Der Senat lässt die Berliner*innen über ein genaues E
 röffnungsdatum sowie den Zeitpunkt der Fertigstellung des westlichen Teil
 s der Elsenbrücke weiter im Unklaren. Ein aktuelles Verkehrskonzept\, das
  den Zusatzverkehr regelt\, liegt nicht vor.\n\nGemeinsam mit Ihnen möcht
 en wir über die Auswirkungen der geplanten Eröffnung des 16. Bauabschnit
 ts sprechen. Mit Ihnen diskutieren Annika Gerold\, Bezirksstadträtin für
  Verkehr\, Grünflächen\, Ordnung und Umwelt in Friedrichshain-Kreuzberg 
 und Dr. Claudia Leistner\, Bezirksstadträtin für Straßen\, Grünfläche
 n und Umwelt und Naturschutz in Treptow-Köpenick.\n\nDie Veranstaltung fi
 ndet am 14. Februar 2025 um 20 Uhr in der Galerie Kungerkiez (Karl-Kunger-
 Str. 15\, 12435 Berlin) statt. Die Veranstaltung ist kostenfrei.
ATTACH;FMTTYPE=image/jpeg:https://gruene-xhain.de/wp-content/uploads/2025/
 02/Einladung_A100-Veranstaltung_Quadrat.png
LOCATION:Galerie Kungerkiez\, Karl-Kunger-Str. 15\, Berlin\, 12435\, Deutsc
 hland
GEO:52.49092;13.447474
X-APPLE-STRUCTURED-LOCATION;VALUE=URI;X-ADDRESS=Karl-Kunger-Str. 15\, Berli
 n\, 12435\, Deutschland;X-APPLE-RADIUS=100;X-TITLE=Galerie Kungerkiez:geo:
 52.49092,13.447474
END:VEVENT
BEGIN:VTIMEZONE
TZID:Europe/Berlin
X-LIC-LOCATION:Europe/Berlin
BEGIN:STANDARD
DTSTART:20241027T020000
TZOFFSETFROM:+0200
TZOFFSETTO:+0100
TZNAME:CET
END:STANDARD
END:VTIMEZONE
END:VCALENDAR