BEGIN:VCALENDAR
VERSION:2.0
PRODID:-//wp-events-plugin.com//7.2.3.1//EN
TZID:Europe/Berlin
X-WR-TIMEZONE:Europe/Berlin
BEGIN:VEVENT
UID:0-781@gruene-xhain.de
DTSTART;TZID=Europe/Berlin:20231108T183000
DTEND;TZID=Europe/Berlin:20231108T210000
DTSTAMP:20231102T120925Z
URL:https://gruene-xhain.de/veranstaltungen/ag-feminismus-2023-11-08/
SUMMARY:AG Feminismus
DESCRIPTION:Liebe Freund*innen\,\n\ndiesen Monat treffen wir uns\, um über
  das Thema Leihmutterschaft zu sprechen. Zu Gast ist Sophie Humbert\, die 
 sich aus rechtswissenschaftlicher Perspektive für eine Legalisierung der 
 Leihmutterschaft einsetzt. Die Grünen sind gegen eine Legalisierung\, abe
 r wir möchten uns gerne anhören\, was ihre Argumente dafür sind.\n\nDie
 se Sitzung wird hybrid stattfinden. Ihr könnt gerne in den Igelbau\, Dres
 denderstr. 10\, 10999 Berlin\, kommen oder euch online dazuschalten.\n\nZo
 om-Link: https://eu02web.zoom-x.de/j/69845645701?pwd=WGVNNURtNDI1WnFyQWMvb
 jYyQjRHQT09\nMeeting-ID: 698 4564 5701\nKenncode: 362384\n\nIhr habt Frage
 n? Schreibt uns: info(at)gruene-xhain.de
ATTACH;FMTTYPE=image/jpeg:https://gruene-xhain.de/wp-content/uploads/2023/
 05/AGen8.jpg
LOCATION:Igelbau\, Dresdener Straße 10\, Berlin\, 10999\, Deutschland
GEO:52.500571;13.417794
X-APPLE-STRUCTURED-LOCATION;VALUE=URI;X-ADDRESS=Dresdener Straße 10\, Berl
 in\, 10999\, Deutschland;X-APPLE-RADIUS=100;X-TITLE=Igelbau:geo:52.500571,
 13.417794
END:VEVENT
BEGIN:VTIMEZONE
TZID:Europe/Berlin
X-LIC-LOCATION:Europe/Berlin
BEGIN:STANDARD
DTSTART:20231029T020000
TZOFFSETFROM:+0200
TZOFFSETTO:+0100
TZNAME:CET
END:STANDARD
END:VTIMEZONE
END:VCALENDAR