BEGIN:VCALENDAR
VERSION:2.0
PRODID:-//wp-events-plugin.com//7.2.3.1//EN
TZID:Europe/Berlin
X-WR-TIMEZONE:Europe/Berlin
BEGIN:VEVENT
UID:0-918@gruene-xhain.de
DTSTART;TZID=Europe/Berlin:20250424T190000
DTEND;TZID=Europe/Berlin:20250424T210000
DTSTAMP:20250416T220020Z
URL:https://gruene-xhain.de/veranstaltungen/ag-mobilitaet-2025-04-24/
SUMMARY:AG Mobilität
DESCRIPTION:Folgende Themen wollen wir mit euch besprechen\n\n1. Verwaltung
 svorschrift zur StVO nach Zustimmung des Bundesrats in Kraft. Anhand der A
 uflistung des adfc (s. Link) wollen wir gemeinsam überlegen\, welche zus
 ätzlichen Möglichkeiten sich hieraus für die Verkehrspolitik in unserem
  Bezirk ergeben.\nhttps://www.adfc.de/fileadmin/user_upload/Im-Alltag/Rech
 t/Downloads/verkehrsregeln-aenderungen-2025-vergleichstabelle.pdf\n\n2. Br
 ainstorming zur Nutzung von Social Media für unsere Arbeit. Die nächste 
 Sitzung im Mai wollen wir gemeinsam mit der AG Social Media durchführen. 
 Zur Vorbereitung wollen wir erste Ideen sammeln\, über deren Umsetzung 
 wir dann im Mai mit den Expert*innen beraten können.\n\n3. Verschiedenes 
 /Berichte /Termine\, u.a. Stand beim taz-lab\, A 100 bassen\n\nEuch allen 
 ein frohes Osterfest und liebe Grüße\n\nEuer neues Orga Team (Cornelia\,
  Ronja\, Andreas und Gerd)\n\n&nbsp\;\n\nDie Mobilitäts AG trifft sich je
 den 4. Donnerstag im Monat an wechselnden Orten. Du kannst einfach vorbeik
 ommen\; eine Anmeldung oder Parteimitgliedschaft sind nicht erforderlich.\
 n\nDu kannst auch online teilnehmen:\nhttps://eu02web.zoom-x.de/j/62347146
 618?pwd=bGZvQVJmZHJkZHB5NnVNVXJac084dz09\nFragen? Meldet euch bei: ag-mobi
 litaet@gruene-xhain.de
ATTACH;FMTTYPE=image/jpeg:https://gruene-xhain.de/wp-content/uploads/2023/
 04/Website-Fotos-fuer-Termine2.jpg
LOCATION:Igelbau\, Dresdener Straße 10\, Berlin\, 10999\, Deutschland
GEO:52.500571;13.417794
X-APPLE-STRUCTURED-LOCATION;VALUE=URI;X-ADDRESS=Dresdener Straße 10\, Berl
 in\, 10999\, Deutschland;X-APPLE-RADIUS=100;X-TITLE=Igelbau:geo:52.500571,
 13.417794
END:VEVENT
BEGIN:VTIMEZONE
TZID:Europe/Berlin
X-LIC-LOCATION:Europe/Berlin
BEGIN:DAYLIGHT
DTSTART:20250330T030000
TZOFFSETFROM:+0100
TZOFFSETTO:+0200
TZNAME:CEST
END:DAYLIGHT
END:VTIMEZONE
END:VCALENDAR