BEGIN:VCALENDAR
VERSION:2.0
PRODID:-//wp-events-plugin.com//7.2.3.1//EN
TZID:Europe/Berlin
X-WR-TIMEZONE:Europe/Berlin
BEGIN:VEVENT
UID:0-1918@gruene-xhain.de
DTSTART;TZID=Europe/Berlin:20250522T190000
DTEND;TZID=Europe/Berlin:20250522T210000
DTSTAMP:20250520T160938Z
URL:https://gruene-xhain.de/veranstaltungen/ag-mobilitaet-2025-05-22-2/
SUMMARY:AG Mobilität
DESCRIPTION:Wir treffen wir uns auf Einladung von Vasili Franco (MsA)\n\nam
  22. Mai\num 19 Uhr\nOrt: auf Anfrage\n\nund wie immer online unter folgen
 dem Link\n\nhttps://eu02web.zoom-x.de/j/62347146618?pwd=bGZvQVJmZHJkZHB5Nn
 VNVXJac084dz09\n\nWie beim letzten Mal verabredet\, wollen wir diesmal ins
 besondere über die Nutzung von Social Media in unserer Öffentlichkeitsar
 beit sprechen. Hierzu haben wir die AG Social Media der Grünen Xhain eing
 eladen\, um uns über technische Voraussetzungen und verschiedene Einsatzm
 öglichkeiten des Insta-Accounts der Grünen Xhain zu informieren und uns 
 bei der Entwicklung eines Konzeptes zu unterstützen (welche Wählergruppe
 (n) wollen wir mit welchen Inhalten/Themen und mit Einsatz welcher Formate
  gezielt ansprechen bzw. erreichen?).\n\nWeitere Themen\, über die wir au
 f mit euch diskutieren wollen:\n\n\n 	Teilnahme der Grünen Xhain am jähr
 lichen Stadtradeln (16.5. bis 5.6.)\n 	Sternfahrt des adfc am 1. Juni (Ron
 ja)\n 	grüner Abbiegepfeil für Radfahrer (Vorschlag Andreas)\n 	Info-Ver
 anstaltung zur Inbetriebnahme des 16. Bauabschnitts der A100 (Gerd)\n 	Akt
 uelles und Termine\n\nDie Mobilitäts AG trifft sich jeden 4. Donnerstag i
 m Monat an wechselnden Orten. Du kannst einfach vorbeikommen\; eine Anmeld
 ung oder Parteimitgliedschaft sind nicht erforderlich.\n\nFragen? Meldet e
 uch bei: ag-mobilitaet@gruene-xhain.de
ATTACH;FMTTYPE=image/jpeg:https://gruene-xhain.de/wp-content/uploads/2022/
 10/AGen-Instagram-Post-45.jpg
END:VEVENT
BEGIN:VTIMEZONE
TZID:Europe/Berlin
X-LIC-LOCATION:Europe/Berlin
BEGIN:DAYLIGHT
DTSTART:20250330T030000
TZOFFSETFROM:+0100
TZOFFSETTO:+0200
TZNAME:CEST
END:DAYLIGHT
END:VTIMEZONE
END:VCALENDAR