BEGIN:VCALENDAR
VERSION:2.0
PRODID:-//wp-events-plugin.com//7.2.3.1//EN
TZID:Europe/Berlin
X-WR-TIMEZONE:Europe/Berlin
BEGIN:VEVENT
UID:0-1921@gruene-xhain.de
DTSTART;TZID=Europe/Berlin:20250828T190000
DTEND;TZID=Europe/Berlin:20250828T210000
DTSTAMP:20250828T091233Z
URL:https://gruene-xhain.de/veranstaltungen/ag-mobilitaet-2025-08-28/
SUMMARY:AG Mobilität im Südblock
DESCRIPTION:An diesem Termin wollten wir unsere AG-Sitzung als Biergarten-S
 itzung machen\, wegen des Wetters treffen wir uns jedoch um 19 Uhr im Süd
 block am Kottbusser Tor.\n\n&nbsp\;\n\nDie Mobilitäts AG Xhain unterstüt
 zt die Verkehrswende von der autogerechten Stadt zu einer umweltfreundlich
 en Mobilität mit Vorrang für Fußgänger\, Radfahrer und den öffentlich
 en Nahverkehr in unserem Bezirk.\n\nDie Mobilitäts AG trifft sich in der 
 Regel jeden 4. Donnerstag im Monat an wechselnden Orten\, meistens im Igel
 bau (Dresdener Str. 10)\, Genaueres findest du kurz vor diesem Termin hier
 . Du kannst einfach vorbeikommen\; eine Anmeldung oder Parteimitgliedschaf
 t sind nicht erforderlich.\n\nDiese Sitzung ist ausnahmsweise nicht hybrid
 \, ihr müsst also vorbeikommen \;-)\n\nFragen? Meldet euch bei: ag-mobili
 taet@gruene-xhain.de
ATTACH;FMTTYPE=image/jpeg:https://gruene-xhain.de/wp-content/uploads/2025/
 07/AGen-Instagram-Post-45-3.jpg
LOCATION:Südblock\, Admiralstraße 1-2\, Berlin\, 10999\, Deutschland
GEO:52.498287;13.416821
X-APPLE-STRUCTURED-LOCATION;VALUE=URI;X-ADDRESS=Admiralstraße 1-2\, Berlin
 \, 10999\, Deutschland;X-APPLE-RADIUS=100;X-TITLE=Südblock:geo:52.498287,
 13.416821
END:VEVENT
BEGIN:VTIMEZONE
TZID:Europe/Berlin
X-LIC-LOCATION:Europe/Berlin
BEGIN:DAYLIGHT
DTSTART:20250330T030000
TZOFFSETFROM:+0100
TZOFFSETTO:+0200
TZNAME:CEST
END:DAYLIGHT
END:VTIMEZONE
END:VCALENDAR