BEGIN:VCALENDAR
VERSION:2.0
PRODID:-//wp-events-plugin.com//7.2.3.1//EN
TZID:Europe/Berlin
X-WR-TIMEZONE:Europe/Berlin
BEGIN:VEVENT
UID:0-924@gruene-xhain.de
DTSTART;TZID=Europe/Berlin:20251016T190000
DTEND;TZID=Europe/Berlin:20251016T210000
DTSTAMP:20251008T143521Z
URL:https://gruene-xhain.de/veranstaltungen/ag-mobilitaet-2025-10-23-2/
SUMMARY:AG Mobilität
DESCRIPTION:Im Oktober treffen wir uns auf Einladung von Antje Kapek (MdA) 
 eine Woche früher als üblich\n\n\nam 16. Oktober 2025\num 19 Uhr\nim Gr
 ünen Kiezbüro in der Wrangel Straße 92\, 10997 Berlin\n \nsowie online
  unter folgendem link\n\nhttps://eu02web.zoom-x.de/j/62347146618?pwd=bGZvQ
 VJmZHJkZHB5NnVNVXJac084dz09\n\n\nGemeinsam mit Antje wollen wir folgende T
 hemen besprechen\n\n 	A100\, aktueller Stand und Aktionsmöglichkeiten?\n 
 	Haltung der grünen AGH-Fraktion zum Volksentscheid "autofreies Berlin"\n
  	Erhöhung und mögliche Staffelung der Gebühren für das Anwohnerparken
 \n 	Planungsstand der Tramlinien zum Ostkreuz und zum Hermannplatz\n 	Wahl
 programm: Verfahren und Antragsfristen\n\nsowie weitere Fragen zur Verkehr
 spolitik auf Landesebene\, die euch auf den Nägeln brennen.\n\n\nWeiterhi
 n wollen wir eine Projektgruppe bilden\, die aus der Umfrage der TU Dresde
 n über die  Verkehrsmittelwahl 2023 (Modal Split) die für unseren Bezir
 k wichtigsten Ergebnisse zusammenfasst. Auf der nächsten Sitzung im Novem
 ber wollen wir anhand der Zahlen über weitere verkehrspolitische Konseque
 nzen diskutieren und ggfs. Forderungen für das bezirkliche Wahlprogramm e
 ntwickeln.
ATTACH;FMTTYPE=image/jpeg:https://gruene-xhain.de/wp-content/uploads/2025/
 07/AGen-Instagram-Post-45-3.jpg
LOCATION:Dein Grünes Büro\, Wrangelstraße 92\, Berlin\, Deutschland
GEO:52.499717;13.439666
X-APPLE-STRUCTURED-LOCATION;VALUE=URI;X-ADDRESS=Wrangelstraße 92\, Berlin\
 , Deutschland;X-APPLE-RADIUS=100;X-TITLE=Dein Grünes Büro:geo:52.499717,
 13.439666
END:VEVENT
BEGIN:VTIMEZONE
TZID:Europe/Berlin
X-LIC-LOCATION:Europe/Berlin
BEGIN:DAYLIGHT
DTSTART:20250330T030000
TZOFFSETFROM:+0100
TZOFFSETTO:+0200
TZNAME:CEST
END:DAYLIGHT
END:VTIMEZONE
END:VCALENDAR