BEGIN:VCALENDAR
VERSION:2.0
PRODID:-//wp-events-plugin.com//7.2.3.1//EN
TZID:Europe/Berlin
X-WR-TIMEZONE:Europe/Berlin
BEGIN:VEVENT
UID:0-1240@gruene-xhain.de
DTSTART;TZID=Europe/Berlin:20241120T193000
DTEND;TZID=Europe/Berlin:20241120T213000
DTSTAMP:20241024T094236Z
URL:https://gruene-xhain.de/veranstaltungen/ag-mobilitaet-podiumsdiskussio
 n-wirtschaftsverkehr-in-xhain/
SUMMARY:AG Mobilität Podiumsdiskussion - Wirtschaftsverkehr in Xhain
DESCRIPTION:Podiumsdiskussion mit Annika Gerold\, Antje Kapek und Monika He
 rrmann. Weitere Infos folgen....
ATTACH;FMTTYPE=image/jpeg:https://gruene-xhain.de/wp-content/uploads/2024/
 10/Wirtschaftsverkehr_Sharepic.jpg
LOCATION:Lovelite\, Haasestraße 1\, Berlin\, Deutschland
GEO:52.506641;13.46165
X-APPLE-STRUCTURED-LOCATION;VALUE=URI;X-ADDRESS=Haasestraße 1\, Berlin\, D
 eutschland;X-APPLE-RADIUS=100;X-TITLE=Lovelite:geo:52.506641,13.46165
END:VEVENT
BEGIN:VTIMEZONE
TZID:Europe/Berlin
X-LIC-LOCATION:Europe/Berlin
BEGIN:STANDARD
DTSTART:20241027T020000
TZOFFSETFROM:+0200
TZOFFSETTO:+0100
TZNAME:CET
END:STANDARD
END:VTIMEZONE
END:VCALENDAR