BEGIN:VCALENDAR
VERSION:2.0
PRODID:-//wp-events-plugin.com//7.2.3.1//EN
TZID:Europe/Berlin
X-WR-TIMEZONE:Europe/Berlin
BEGIN:VEVENT
UID:0-975@gruene-xhain.de
DTSTART;TZID=Europe/Berlin:20240115T193000
DTEND;TZID=Europe/Berlin:20240115T210000
DTSTAMP:20240109T105814Z
URL:https://gruene-xhain.de/veranstaltungen/ag-verteilungsgerechtigkeit-2/
SUMMARY:AG Verteilungsgerechtigkeit
DESCRIPTION:Liebe Freund*innen\,\n\nunser nächstes Treffen findet am 15.01
 .24 um 19:30 Uhr im Igelbau statt. Das Thema wird u.a. Sozialversicherung 
 sein.\n\n\nSeit Jahrzehnten steigt die Vermögensungleichheit in unserer G
 esellschaft rasant – mittlerweile besitzt die untere Hälfte in der Verm
 ögensverteilung nur noch 1% des Vermögens\, das oberste Prozent hingegen
  35%.\nWie kann man dies durch eine Reform der Erbschaftsteuer gerechter g
 estalten? Wie und wem kann das Klimageld helfen? Was sind sinnvolle Altern
 ativen zum Ehegatten-Splitting? Wie wäre es mit einer EU-Vermögensteuer?
 \n\nWenn dich solche und ähnliche Fragen interessieren oder du Fragen has
 t\, dann melde dich gern unter der info@gruene-xhain.de.\n\n\nWir freuen u
 ns auf euch!
ATTACH;FMTTYPE=image/jpeg:https://gruene-xhain.de/wp-content/uploads/2023/
 11/Website-Fotos-fuer-Termine13.jpg
LOCATION:Igelbau\, Dresdener Straße 10\, Berlin\, 10999\, Deutschland
GEO:52.500571;13.417794
X-APPLE-STRUCTURED-LOCATION;VALUE=URI;X-ADDRESS=Dresdener Straße 10\, Berl
 in\, 10999\, Deutschland;X-APPLE-RADIUS=100;X-TITLE=Igelbau:geo:52.500571,
 13.417794
END:VEVENT
BEGIN:VTIMEZONE
TZID:Europe/Berlin
X-LIC-LOCATION:Europe/Berlin
BEGIN:STANDARD
DTSTART:20231029T020000
TZOFFSETFROM:+0200
TZOFFSETTO:+0100
TZNAME:CET
END:STANDARD
END:VTIMEZONE
END:VCALENDAR