BEGIN:VCALENDAR
VERSION:2.0
PRODID:-//wp-events-plugin.com//7.2.3.1//EN
TZID:Europe/Berlin
X-WR-TIMEZONE:Europe/Berlin
BEGIN:VEVENT
UID:0-1001@gruene-xhain.de
DTSTART;TZID=Europe/Berlin:20241015T193000
DTEND;TZID=Europe/Berlin:20241015T213000
DTSTAMP:20241007T082753Z
URL:https://gruene-xhain.de/veranstaltungen/ag-verteilungsgerechtigkeit-20
 24-10-07/
SUMMARY:AG Verteilungsgerechtigkeit
DESCRIPTION:\n\nSeit Jahrzehnten steigt die Vermögensungleichheit in unser
 er Gesellschaft rasant – mittlerweile besitzt die untere Hälfte in der 
 Vermögensverteilung nur noch 1% des Vermögens\, das oberste Prozent hing
 egen 35%. Wie kann man dies durch eine Reform der Erbschaftsteuer gerechte
 r gestalten? Wie und wem kann das Klimageld helfen? Was sind sinnvolle Alt
 ernativen zum Ehegatten-Splitting? Wie wäre es mit einer EU-Vermögensteu
 er?\n\nDie AG trifft sich an diesem Termin ausschließlich Online:\n\nBeit
 reten Zoom Meeting\nhttps://eu02web.zoom-x.de/j/65513560989?pwd=bi9qWmpuMm
 9oWEYzTkM0OWFxKzlGZz09\n\nMeeting-ID: 655 1356 0989\nKenncode: 584899\n\n\
 nWenn dich solche und ähnliche Fragen interessieren oder du Fragen hast\,
  dann melde dich gern unter der info@gruene-xhain.de.
ATTACH;FMTTYPE=image/jpeg:https://gruene-xhain.de/wp-content/uploads/2023/
 11/Website-Fotos-fuer-Termine13.jpg
LOCATION:Igelbau\, Dresdener Straße 10\, Berlin\, 10999\, Deutschland
GEO:52.500571;13.417794
X-APPLE-STRUCTURED-LOCATION;VALUE=URI;X-ADDRESS=Dresdener Straße 10\, Berl
 in\, 10999\, Deutschland;X-APPLE-RADIUS=100;X-TITLE=Igelbau:geo:52.500571,
 13.417794
END:VEVENT
BEGIN:VTIMEZONE
TZID:Europe/Berlin
X-LIC-LOCATION:Europe/Berlin
BEGIN:DAYLIGHT
DTSTART:20240331T030000
TZOFFSETFROM:+0100
TZOFFSETTO:+0200
TZNAME:CEST
END:DAYLIGHT
END:VTIMEZONE
END:VCALENDAR