BEGIN:VCALENDAR
VERSION:2.0
PRODID:-//wp-events-plugin.com//7.2.3.1//EN
TZID:Europe/Berlin
X-WR-TIMEZONE:Europe/Berlin
BEGIN:VEVENT
UID:0-1004@gruene-xhain.de
DTSTART;TZID=Europe/Berlin:20250106T183000
DTEND;TZID=Europe/Berlin:20250106T203000
DTSTAMP:20250102T130513Z
URL:https://gruene-xhain.de/veranstaltungen/ag-verteilungsgerechtigkeit-20
 25-01-06/
SUMMARY:AG Verteilungsgerechtigkeit
DESCRIPTION:\n\nAm 6.1. diskutieren wir mit Rasmus Andresen\, Mitglied des 
 EU-Parlaments für Bündnis90/Die Grünen. Es geht darum\, was ein Spardik
 tat oder eine ungerechte Verteilung gerade in der jetzigen Zeit für Folge
 n hätte\, welche Investitionen wir als Land nun dringend tätigen müssen
  und wir wir diese finanzieren können. Als Vorbereitung können Mitgliede
 r (freiwillig) noch einmal den Antrag Gerechtigkeit statt Spardiktat: Für
  ein Land\, das funktioniert von der BDK im November lesen.\nNach dem ca. 
 einstündigen Gespräch mit Rasmus werden wir uns gemeinsam in die Sonder-
 BG bzgl. Anträgen zum Wahlprogramm einwählen und dort ggf. Anträge zum 
 Thema Verteilungsgerechtigkeit stellen.\n\nSeit Jahrzehnten steigt die Ver
 mögensungleichheit in unserer Gesellschaft rasant – mittlerweile besitz
 t die untere Hälfte in der Vermögensverteilung nur noch 1% des Vermögen
 s\, das oberste Prozent hingegen 35%. Wie kann man dies durch eine Reform 
 der Erbschaftsteuer gerechter gestalten? Wie und wem kann das Klimageld he
 lfen? Was sind sinnvolle Alternativen zum Ehegatten-Splitting? Wie wäre e
 s mit einer EU-Vermögensteuer?\n\nDie AG trifft sich an jedem 1. Montag i
 m Monat um 19:30 Uhr (diesesmal um 18.:30) im Igelbau\, Dresdener Str. 10\
 , 10999. Wenn dich solche und ähnliche Fragen interessieren oder du Frage
 n hast\, dann melde dich gern unter der info@gruene-xhain.de.\n\nBeitreten
  Zoom Meeting\nhttps://eu02web.zoom-x.de/j/65513560989?pwd=bi9qWmpuMm9oWEY
 zTkM0OWFxKzlGZz09\n\nMeeting-ID: 655 1356 0989\nKenncode: 584899\n\n
ATTACH;FMTTYPE=image/jpeg:https://gruene-xhain.de/wp-content/uploads/2023/
 11/Website-Fotos-fuer-Termine13.jpg
LOCATION:Igelbau\, Dresdener Straße 10\, Berlin\, 10999\, Deutschland
GEO:52.500571;13.417794
X-APPLE-STRUCTURED-LOCATION;VALUE=URI;X-ADDRESS=Dresdener Straße 10\, Berl
 in\, 10999\, Deutschland;X-APPLE-RADIUS=100;X-TITLE=Igelbau:geo:52.500571,
 13.417794
END:VEVENT
BEGIN:VTIMEZONE
TZID:Europe/Berlin
X-LIC-LOCATION:Europe/Berlin
BEGIN:STANDARD
DTSTART:20241027T020000
TZOFFSETFROM:+0200
TZOFFSETTO:+0100
TZNAME:CET
END:STANDARD
END:VTIMEZONE
END:VCALENDAR