BEGIN:VCALENDAR
VERSION:2.0
PRODID:-//wp-events-plugin.com//7.2.3.1//EN
TZID:Europe/Berlin
X-WR-TIMEZONE:Europe/Berlin
BEGIN:VEVENT
UID:0-1005@gruene-xhain.de
DTSTART;TZID=Europe/Berlin:20250203T193000
DTEND;TZID=Europe/Berlin:20250203T213000
DTSTAMP:20250128T131044Z
URL:https://gruene-xhain.de/veranstaltungen/ag-verteilungsgerechtigkeit-20
 25-02-03/
SUMMARY:AG Verteilungsgerechtigkeit
DESCRIPTION:\n\nSeit Jahrzehnten steigt die Vermögensungleichheit in unser
 er Gesellschaft rasant – mittlerweile besitzt die untere Hälfte in der 
 Vermögensverteilung nur noch 1% des Vermögens\, das oberste Prozent hing
 egen 35%. Wie kann man dies durch eine Reform der Erbschaftsteuer gerechte
 r gestalten? Wie und wem kann das Klimageld helfen? Was sind sinnvolle Alt
 ernativen zum Ehegatten-Splitting? Wie wäre es mit einer EU-Vermögensteu
 er?\n\nDie AG trifft sich an jedem 1. Montag im Monat um 19:30 Uhr im Igel
 bau\, Dresdener Str. 10\, 10999. Wenn dich solche und ähnliche Fragen int
 eressieren oder du Fragen hast\, dann melde dich gern unter der info@gruen
 e-xhain.de.\n\n\nACHTUNG am 03.02. treffen wir uns nur Online via Zoom.\nD
 as Thema wird sein: Verteilungsgerechtigkeit in der sozial-ökologischen T
 ransformation mit Hannah Heller als Referentin\n\n\nBeitreten Zoom Meeting
 \nhttps://eu02web.zoom-x.de/j/65513560989?pwd=bi9qWmpuMm9oWEYzTkM0OWFxKzlG
 Zz09\n\nMeeting-ID: 655 1356 0989\nKenncode: 584899\n\n
ATTACH;FMTTYPE=image/jpeg:https://gruene-xhain.de/wp-content/uploads/2023/
 11/Website-Fotos-fuer-Termine13.jpg
END:VEVENT
BEGIN:VTIMEZONE
TZID:Europe/Berlin
X-LIC-LOCATION:Europe/Berlin
BEGIN:STANDARD
DTSTART:20241027T020000
TZOFFSETFROM:+0200
TZOFFSETTO:+0100
TZNAME:CET
END:STANDARD
END:VTIMEZONE
END:VCALENDAR