BEGIN:VCALENDAR
VERSION:2.0
PRODID:-//wp-events-plugin.com//7.2.3.1//EN
TZID:Europe/Berlin
X-WR-TIMEZONE:Europe/Berlin
BEGIN:VEVENT
UID:0-1221@gruene-xhain.de
DTSTART;TZID=Europe/Berlin:20240930T183000
DTEND;TZID=Europe/Berlin:20240930T210000
DTSTAMP:20240905T111438Z
URL:https://gruene-xhain.de/veranstaltungen/bezahlbar-wohnen-in-friedrichs
 hain-kreuzberg-instrumente-und-strategien-gegen-verdraengung-und-mietenwah
 nsinn/
SUMMARY:Bezahlbar Wohnen in Friedrichshain-Kreuzberg – Instrumente und St
 rategien gegen Verdrängung und Mietenwahnsinn
DESCRIPTION:Der Berliner Wohnungsmarkt steht kurz vor dem Kollaps und gerad
 e in Friedrichshain-Kreuzberg ist der Mietenwahnsinn deutlich zu spüren. 
 Eine Entlastung zeichnet sich nicht ab\, denn es hat sich gezeigt\, dass N
 eubau per se den Bedarf nicht ausgleicht. „Bauen\, bauen\, bauen“ hilf
 t vor allem den Reichen während Fragen des Bestandserhalts von der Politi
 k vernachlässigt wird.\n\nWelche Instrumente und Strategien gibt es gegen
  die anhaltende Verdrängung in unserem Bezirk? Welche rechtlichen und pol
 itischen Maßnahmen kann die Politik ergreifen\, um Mieter*innen besser zu
  schützen? Diese Fragen wollen wir mit Euch diskutieren!\n\nAlle Informat
 ionen zur Veranstaltung findet Ihr hier.
ATTACH;FMTTYPE=image/jpeg:https://gruene-xhain.de/wp-content/uploads/2024/
 08/IMG_20240801_175552_215.jpg
CATEGORIES:Fraktion
LOCATION:Aquarium\, Skalitzer Str. 6\, Berlin\, 10999\, Deutschland
GEO:52.498598;13.416528
X-APPLE-STRUCTURED-LOCATION;VALUE=URI;X-ADDRESS=Skalitzer Str. 6\, Berlin\,
  10999\, Deutschland;X-APPLE-RADIUS=100;X-TITLE=Aquarium:geo:52.498598,13.
 416528
END:VEVENT
BEGIN:VTIMEZONE
TZID:Europe/Berlin
X-LIC-LOCATION:Europe/Berlin
BEGIN:DAYLIGHT
DTSTART:20240331T030000
TZOFFSETFROM:+0100
TZOFFSETTO:+0200
TZNAME:CEST
END:DAYLIGHT
END:VTIMEZONE
END:VCALENDAR