BEGIN:VCALENDAR
VERSION:2.0
PRODID:-//wp-events-plugin.com//7.2.3.1//EN
TZID:Europe/Berlin
X-WR-TIMEZONE:Europe/Berlin
BEGIN:VEVENT
UID:0-870@gruene-xhain.de
DTSTART;TZID=Europe/Berlin:20260414T190000
DTEND;TZID=Europe/Berlin:20260414T220000
DTSTAMP:20260407T152507Z
URL:https://gruene-xhain.de/veranstaltungen/bezirksgruppe-2026-04-14/
SUMMARY:Bezirksgruppe "Beschluss BVV-Wahlprogramm"
DESCRIPTION:Liebe Freund*innen\,\n\nwir laden euch herzlich zu unserer Bezi
 rksgruppe ein. Auf der Tagesordnung stehen: die Abstimmung über die Ände
 rungsanträge unseres BVV-Wahlprogramms\, anschließend der Beschluss unse
 res BVV-Wahlprogramms: https://xhain.antragsgruen.de/wahlprogramm\n\nIm An
 schluss bekommt ihr Infos &amp\; aktuellen Stand der Urabstimmung zur Satz
 ungsänderung des Bundesverbands. Daneben gibt es unsere klassischen Tages
 ordnungspunkte: Berichte sowie Raum\, um unter Aktuelles gemeinsam mit euc
 h über wichtige Themen zu sprechen\, die euch gerade bewegen.\n\n📅 Wan
 n: Dienstag\, 14.04.26\, ab 19:00 Uhr\n📍 Wo: Lovelite\, Haasestr. 1\, 1
 0245 Berlin\n\nVorläufige Tagesordnung:\n\n 	Begrüßung\n 	Aktuelles\n 	
 Abstimmung Änderungsanträge BVV-Wahlprogramm &amp\; Beschluss BVV-Wahlpr
 ogramm\n 	Vorstellung Urabstimmung Bundesparteisatzung\n 	Update Wahlkampf
 \n 	Termine &amp\; Sonstiges\n\nHinweise zur Bezirksgruppe:\nEure Teilnahm
 e ist uns sehr wichtig\, egal ob ihr schon lange Mitglied oder gerade erst
  beigetreten seid. Solltet ihr nicht persönlich teilnehmen können\, freu
 en wir uns über eure Gedanken und Anregungen per E-Mail an info@gruene-xh
 ain.de.\n\nSchaue online bei der Bezirksgruppe zu:\nIm Zuge einer besseren
  Vereinbarkeit und Zugänglichkeit bieten wir euch auch einen Livestream d
 er Veranstaltung an. Es wird euch dabei auch ermöglicht\, Fragen zu stell
 en:\n🔗 Zoom-Link\nMeeting-ID: 655 4244 7309\nKenncode: 213334\n\nWir fr
 euen uns auf euch!
ATTACH;FMTTYPE=image/jpeg:https://gruene-xhain.de/wp-content/uploads/2023/
 02/20261404_Bezirksgruppe_Sharepic.jpg
LOCATION:Lovelite\, Haasestraße 1\, Berlin\, Deutschland
GEO:52.506641;13.46165
X-APPLE-STRUCTURED-LOCATION;VALUE=URI;X-ADDRESS=Haasestraße 1\, Berlin\, D
 eutschland;X-APPLE-RADIUS=100;X-TITLE=Lovelite:geo:52.506641,13.46165
END:VEVENT
BEGIN:VTIMEZONE
TZID:Europe/Berlin
X-LIC-LOCATION:Europe/Berlin
BEGIN:DAYLIGHT
DTSTART:20260329T030000
TZOFFSETFROM:+0100
TZOFFSETTO:+0200
TZNAME:CEST
END:DAYLIGHT
END:VTIMEZONE
END:VCALENDAR