BEGIN:VCALENDAR
VERSION:2.0
PRODID:-//wp-events-plugin.com//7.2.3.1//EN
TZID:Europe/Berlin
X-WR-TIMEZONE:Europe/Berlin
BEGIN:VEVENT
UID:0-1394@gruene-xhain.de
DTSTART;TZID=Europe/Berlin:20250225T190000
DTEND;TZID=Europe/Berlin:20250225T220000
DTSTAMP:20250217T130433Z
URL:https://gruene-xhain.de/veranstaltungen/bipoc-gettogether-vernetzen-au
 stauschen-und-gestalten-fuer-eine-vielfaeltige-zukunft-in-xhain/
SUMMARY:BIPoC Gettogether - Vernetzen\, Austauschen und Gestalten für eine
  vielfältige Zukunft in XHain
DESCRIPTION:Liebe Freund*innen\,\n\nWir laden alle BIPoCs herzlich zu einem
  Kennenlernen und Gettogether am 25.02.25 um 19:00 Uhr im Igelbau ein.\n\n
 Neben den Aspekten des Zusammenkommens\, Kennenlernens und Vernetzens möc
 hten wir vor allem über die Möglichkeiten informieren\, wie man in unser
 em Kreisverband politisch teilhaben kann. In unseren Delegationen und Grem
 ien sollen möglichst viele Perspektiven\, Lebenserfahrungen und Interesse
 n vertreten sein. Gleichzeitig sind bestimmte Perspektiven aktuell in viel
 en Parteistrukturen über- und andere noch unterrepräsentiert. Als Kreisv
 erband wollen wir aktiv darauf hinwirken\, dass auch Menschen mit Rassismu
 s- oder Diskriminierungserfahrungen Mitglieder unsere Gremien und Delegati
 onen werden.\n\nBei der Jahreshauptversammlung am 15.03.2025 wählen wir i
 n diesem Jahr unsere Delegierten für\n\nBundesdelegiertenkonferenz\nLande
 sdelegiertenkonferenz\nLandesausschuss\nFrauen* bzw. FLINTA-Konferenz\n\nW
 eiterhin wählen wir Mitglieder für das vielfaltspolitische Team des Krei
 sverbands.\n\nIn unserer KV-Satzung haben wir eine Vielfalts-Zielsetzung v
 ereinbart\, wonach gesellschaftlich diskriminierte oder benachteiligte Gru
 ppen mindestens gemäß ihrem gesellschaftlichen Anteil in unseren Gremien
  und Delegationen repräsentiert sein sollen. Um dieses Ziel zu verfolgen\
 , wollen wir allen Interessierten die Gelegenheit geben\, sich über die A
 rbeit in Gremien und Delegationen zu informieren\, Fragen zu stellen\, mö
 gliche Zweifel und Sorgen zu adressieren und nützliche Tipps für eine Be
 werbung zu erhalten.\n\nDu fühlst dich angesprochen? Dann melde dich unte
 r info@gruene-xhain.de oder komm vorbei. Für Snacks und Getränke wird ge
 sorgt.\n\nWir freuen uns auf euch!
ATTACH;FMTTYPE=image/jpeg:https://gruene-xhain.de/wp-content/uploads/2025/
 02/48.jpg
LOCATION:Igelbau\, Dresdener Straße 10\, Berlin\, 10999\, Deutschland
GEO:52.500571;13.417794
X-APPLE-STRUCTURED-LOCATION;VALUE=URI;X-ADDRESS=Dresdener Straße 10\, Berl
 in\, 10999\, Deutschland;X-APPLE-RADIUS=100;X-TITLE=Igelbau:geo:52.500571,
 13.417794
END:VEVENT
BEGIN:VTIMEZONE
TZID:Europe/Berlin
X-LIC-LOCATION:Europe/Berlin
BEGIN:STANDARD
DTSTART:20241027T020000
TZOFFSETFROM:+0200
TZOFFSETTO:+0100
TZNAME:CET
END:STANDARD
END:VTIMEZONE
END:VCALENDAR