BEGIN:VCALENDAR
VERSION:2.0
PRODID:-//wp-events-plugin.com//7.2.3.1//EN
TZID:Europe/Berlin
X-WR-TIMEZONE:Europe/Berlin
BEGIN:VEVENT
UID:0-1038@gruene-xhain.de
DTSTART;TZID=Europe/Berlin:20240325T160000
DTEND;TZID=Europe/Berlin:20240325T180000
DTSTAMP:20240319T174031Z
URL:https://gruene-xhain.de/veranstaltungen/buergerinnensprechstunde-mit-c
 lara-herrmann-bezirksbuergermeisterin/
SUMMARY:Bürger*innensprechstunde mit Clara Herrmann\, Bezirksbürgermeiste
 rin
DESCRIPTION:25.03.24 16:00-18:00 Uhr: Clara Herrmann\, Bezirksbürgermeiste
 rin  \n\nAnmeldung unter buergermeisterin@ba-fk.berlin.de oder 030/90298
 -3294\n\nOrt: Stadtteilbibliothek Friedrich von Raumer\, Dudenstraße 18-2
 0\, 10965 Berlin
ATTACH;FMTTYPE=image/jpeg:https://gruene-xhain.de/wp-content/uploads/2024/
 02/Website-Fotos-fuer-Termine19.jpg
LOCATION:Stadtteilbibliothek Friedrich von Raumer\, Dudenstraße 18-20\, 10
 965 Berlin\, Deutschland
GEO:52.485154;13.382946
X-APPLE-STRUCTURED-LOCATION;VALUE=URI;X-ADDRESS=Dudenstraße 18-20\, 10965 
 Berlin\, Deutschland;X-APPLE-RADIUS=100;X-TITLE=Stadtteilbibliothek Friedr
 ich von Raumer:geo:52.485154,13.382946
END:VEVENT
BEGIN:VTIMEZONE
TZID:Europe/Berlin
X-LIC-LOCATION:Europe/Berlin
BEGIN:STANDARD
DTSTART:20231029T020000
TZOFFSETFROM:+0200
TZOFFSETTO:+0100
TZNAME:CET
END:STANDARD
END:VTIMEZONE
END:VCALENDAR