BEGIN:VCALENDAR
VERSION:2.0
PRODID:-//wp-events-plugin.com//7.2.3.1//EN
TZID:Europe/Berlin
X-WR-TIMEZONE:Europe/Berlin
BEGIN:VEVENT
UID:0-1199@gruene-xhain.de
DTSTART;TZID=Europe/Berlin:20240621T170000
DTEND;TZID=Europe/Berlin:20240621T190000
DTSTAMP:20240530T154800Z
URL:https://gruene-xhain.de/veranstaltungen/buergerinnensprechstunde-von-d
 r-turgut-altug-8/
SUMMARY:Bürger*innensprechstunde von Dr. Turgut Altuğ
DESCRIPTION:21:06.24 17:00 - 19:00 Uhr: Bürger*innensprechstunde von Dr. T
 urgut Altuğ\nAnmeldung bitte unter buero.altug@gruene-fraktion.berlin\nWo
 : Digital oder per Telefon
ATTACH;FMTTYPE=image/jpeg:https://gruene-xhain.de/wp-content/uploads/2023/
 02/Website-Fotos-fuer-Termine5.jpg
END:VEVENT
BEGIN:VTIMEZONE
TZID:Europe/Berlin
X-LIC-LOCATION:Europe/Berlin
BEGIN:DAYLIGHT
DTSTART:20240331T030000
TZOFFSETFROM:+0100
TZOFFSETTO:+0200
TZNAME:CEST
END:DAYLIGHT
END:VTIMEZONE
END:VCALENDAR