BEGIN:VCALENDAR
VERSION:2.0
PRODID:-//wp-events-plugin.com//7.2.3.1//EN
TZID:Europe/Berlin
X-WR-TIMEZONE:Europe/Berlin
BEGIN:VEVENT
UID:0-286@gruene-xhain.de
DTSTART;TZID=Europe/Berlin:20221020T163000
DTEND;TZID=Europe/Berlin:20221020T210000
DTSTAMP:20221006T100012Z
URL:https://gruene-xhain.de/veranstaltungen/bundestag-tour-mit-canan-bayra
 m-2/
SUMMARY:Bundestag-Tour mit Canan Bayram
DESCRIPTION:Gespräch mit Canan und anschließendem Kuppelbesuch\n\n--&gt\;
  Frist zur Anmeldung: 13.10. unter canan.bayram@bundestag.de\n\n--&gt\; wi
 r benötigen von allen Teilnehmer*innen: Vorname\, Nachname und Geburtsdat
 um\n\nBitte beachtet\, dass alle Termine mit Canan vorbehaltlich des Bunde
 stags-Plenums stattfinden. Es kann in der Sitzungswoche leider immer sein\
 , sich kurzfristig noch etwas in Canans Terminkalender verschiebt.
END:VEVENT
BEGIN:VTIMEZONE
TZID:Europe/Berlin
X-LIC-LOCATION:Europe/Berlin
BEGIN:DAYLIGHT
DTSTART:20220327T030000
TZOFFSETFROM:+0100
TZOFFSETTO:+0200
TZNAME:CEST
END:DAYLIGHT
END:VTIMEZONE
END:VCALENDAR