BEGIN:VCALENDAR
VERSION:2.0
PRODID:-//wp-events-plugin.com//7.2.3.1//EN
TZID:Europe/Berlin
X-WR-TIMEZONE:Europe/Berlin
BEGIN:VEVENT
UID:0-1186@gruene-xhain.de
DTSTART;TZID=Europe/Berlin:20240529T150000
DTEND;TZID=Europe/Berlin:20240529T170000
DTSTAMP:20240523T150508Z
URL:https://gruene-xhain.de/veranstaltungen/europa-sprechstunde-mit-canan-
 bayram-sergey-lagodinsky/
SUMMARY:Europa-Sprechstunde mit Canan Bayram & Sergey Lagodinsky
DESCRIPTION:Wann: 29.05.2024\, 15:00-17:00 Uhr\nWo: Cafe Dag\, Bötzowstra
 ße 31\, 10407 Berlin
ATTACH;FMTTYPE=image/jpeg:https://gruene-xhain.de/wp-content/uploads/2024/
 05/signal-2024-05-22-130057_002.jpeg
END:VEVENT
BEGIN:VTIMEZONE
TZID:Europe/Berlin
X-LIC-LOCATION:Europe/Berlin
BEGIN:DAYLIGHT
DTSTART:20240331T030000
TZOFFSETFROM:+0100
TZOFFSETTO:+0200
TZNAME:CEST
END:DAYLIGHT
END:VTIMEZONE
END:VCALENDAR