BEGIN:VCALENDAR
VERSION:2.0
PRODID:-//wp-events-plugin.com//7.2.3.1//EN
TZID:Europe/Berlin
X-WR-TIMEZONE:Europe/Berlin
BEGIN:VEVENT
UID:0-1052@gruene-xhain.de
DTSTART;TZID=Europe/Berlin:20240419T153000
DTEND;TZID=Europe/Berlin:20240419T180000
DTSTAMP:20240409T095629Z
URL:https://gruene-xhain.de/veranstaltungen/familiensprechstunde-am-zicken
 platz-mit-canan-bayram-mdb-andreas-audretsch-mdb-und-marianne-burkert-euli
 tz-mda/
SUMMARY:Familiensprechstunde am Zickenplatz mit Canan Bayram MdB\, Andreas 
 Audretsch MdB und Marianne Burkert-Eulitz MdA
DESCRIPTION:19.04.2024\, 15:30 – 18:00 Uhr: Familiensprechstunde am Zicke
 nplatz mit Canan Bayram MdB\, Andreas Audretsch MdB und Marianne Burkert-E
 ulitz MdA\nKontakt: canan.bayram.ma10@bundestag.de
ATTACH;FMTTYPE=image/jpeg:https://gruene-xhain.de/wp-content/uploads/2024/
 04/Website-Fotos-fuer-Termine2.png
END:VEVENT
BEGIN:VTIMEZONE
TZID:Europe/Berlin
X-LIC-LOCATION:Europe/Berlin
BEGIN:DAYLIGHT
DTSTART:20240331T030000
TZOFFSETFROM:+0100
TZOFFSETTO:+0200
TZNAME:CEST
END:DAYLIGHT
END:VTIMEZONE
END:VCALENDAR