BEGIN:VCALENDAR
VERSION:2.0
PRODID:-//wp-events-plugin.com//7.2.3.1//EN
TZID:Europe/Berlin
X-WR-TIMEZONE:Europe/Berlin
BEGIN:VEVENT
UID:0-1830@gruene-xhain.de
DTSTART;TZID=Europe/Berlin:20250523T150000
DTEND;TZID=Europe/Berlin:20250523T180000
DTSTAMP:20250515T161703Z
URL:https://gruene-xhain.de/veranstaltungen/fest-der-nachbarschaftlichkeit
 /
SUMMARY:Fest der Nachbarschaftlichkeit
DESCRIPTION:Wir sind dieses Jahr beim Fest der Nachbarschaftlichkeit vertre
 ten.\nEine Aktion von Kotti e.V. mit vielen Initiativen und Angeboten aus 
 der Nachbarschaft rund um unseren Igelbau (Dresdener Str. 10\, 10999).\n\n
 Auch wir machen von 15-18 Uhr die Pforten auf und sind vor dem Igelbau ans
 prechbar. Ihr könnt gerne dazu kommen und uns besuchen und/ oder für die
  Anwohner*innen ansprechbar sein. So oder so\, wir freuen uns auf euch!
ATTACH;FMTTYPE=image/jpeg:https://gruene-xhain.de/wp-content/uploads/2025/
 05/45.jpg
LOCATION:Igelbau\, Dresdener Straße 10\, Berlin\, 10999\, Deutschland
GEO:52.500571;13.417794
X-APPLE-STRUCTURED-LOCATION;VALUE=URI;X-ADDRESS=Dresdener Straße 10\, Berl
 in\, 10999\, Deutschland;X-APPLE-RADIUS=100;X-TITLE=Igelbau:geo:52.500571,
 13.417794
END:VEVENT
BEGIN:VTIMEZONE
TZID:Europe/Berlin
X-LIC-LOCATION:Europe/Berlin
BEGIN:DAYLIGHT
DTSTART:20250330T030000
TZOFFSETFROM:+0100
TZOFFSETTO:+0200
TZNAME:CEST
END:DAYLIGHT
END:VTIMEZONE
END:VCALENDAR