BEGIN:VCALENDAR
VERSION:2.0
PRODID:-//wp-events-plugin.com//7.2.3.1//EN
TZID:Europe/Berlin
X-WR-TIMEZONE:Europe/Berlin
BEGIN:VEVENT
UID:0-1966@gruene-xhain.de
DTSTART;TZID=Europe/Berlin:20250710T183000
DTEND;TZID=Europe/Berlin:20250710T203000
DTSTAMP:20250703T105013Z
URL:https://gruene-xhain.de/veranstaltungen/flinta-picknick/
SUMMARY:FLINTA Picknick
DESCRIPTION:Liebe Freund*innen\,\n\nwir laden euch herzlich zu einem besond
 eren Treffen vor der Sommerpause ein!\nLasst uns in entspannter Atmosphär
 e zusammenkommen\, uns austauschen\, kennenlernen und bei kühlen Getränk
 en gemeinsam Pläne schmieden.\n\nLasst uns Synergien schaffen\, uns gegen
 seitig empowern und unsere Kräfte bündeln – für die politische Arbeit
 \, für den nächsten Wahlkampf\, und vor allem für uns als FLINTA*-Commu
 nity. Denn wir sind mehr als einzelne Kreisverbände – wir sind eine sta
 rke Gemeinschaft!\n\nDas Treffen ist eine gemeinsame Initiative der FLINTA
 *-Strukturen aus Pankow\, Friedrichshain-Kreuzberg und Lichtenberg – a
 lso die perfekte Gelegenheit\, um uns über Bezirksgrenzen hinweg zu verne
 tzen!\n\n📅 Datum: Donnerstag\, 10.07.2025\n⏰ Uhrzeit: 18:30 bis 20
 :30 Uhr\n📍 Ort: Volkspark Friedrichshain (genauer Treffpunkt folgt)\n
 📞 Kontakt bei Fragen: Alena Dietl\, alena.dietl@gruene-xhain.de\n\nWi
 r freuen uns auf einen inspirierenden Abend mit euch!\n\nLiebe Grüße\n\n
 Claudia\, KV Pankow\nAlena\, KV Xhain\nSophia\, KV Lichtenberg
ATTACH;FMTTYPE=image/jpeg:https://gruene-xhain.de/wp-content/uploads/2025/
 06/Einmalige-Veranstaltungen-1600-×-900-px3.jpg
LOCATION:Volkspark Friedrichshain\, Friedenstraße \, Berlin\, 10249 \, Deu
 tschland
GEO:52.525991444449225;13.431312048657219
X-APPLE-STRUCTURED-LOCATION;VALUE=URI;X-ADDRESS=Friedenstraße \, Berlin\, 
 10249 \, Deutschland;X-APPLE-RADIUS=100;X-TITLE=Volkspark Friedrichshain:g
 eo:52.525991444449225,13.431312048657219
END:VEVENT
BEGIN:VTIMEZONE
TZID:Europe/Berlin
X-LIC-LOCATION:Europe/Berlin
BEGIN:DAYLIGHT
DTSTART:20250330T030000
TZOFFSETFROM:+0100
TZOFFSETTO:+0200
TZNAME:CEST
END:DAYLIGHT
END:VTIMEZONE
END:VCALENDAR