BEGIN:VCALENDAR
VERSION:2.0
PRODID:-//wp-events-plugin.com//7.2.3.1//EN
TZID:Europe/Berlin
X-WR-TIMEZONE:Europe/Berlin
BEGIN:VEVENT
UID:0-1987@gruene-xhain.de
DTSTART;TZID=Europe/Berlin:20260323T180000
DTEND;TZID=Europe/Berlin:20260323T203000
DTSTAMP:20260320T101723Z
URL:https://gruene-xhain.de/veranstaltungen/fraktionssitzung-der-gruenen-b
 vv-fraktion-xhain-hybrid-2026-03-23/
SUMMARY:Fraktionssitzung der Grünen BVV-Fraktion Xhain (hybrid)
DESCRIPTION:Fraktionssitzung der Grünen Fraktion Friedrichshain-Kreuzberg.
 \n\nOrt: online\n\nDie Einwahldaten bitte erfragen bis Montag\, 14:00 Uhr\
 , bei unserer Fraktionsgeschäftsführerin Ronja Schicke\,  per E-Mail fr
 aktion(at)gruene-xhain.de.\n\nWir freuen uns auf Euch!
ATTACH;FMTTYPE=image/jpeg:https://gruene-xhain.de/wp-content/uploads/2025/
 06/Symbolbild-Fraktionssitzung.jpg
CATEGORIES:Fraktion
END:VEVENT
BEGIN:VTIMEZONE
TZID:Europe/Berlin
X-LIC-LOCATION:Europe/Berlin
BEGIN:STANDARD
DTSTART:20251026T020000
TZOFFSETFROM:+0200
TZOFFSETTO:+0100
TZNAME:CET
END:STANDARD
END:VTIMEZONE
END:VCALENDAR