BEGIN:VCALENDAR
VERSION:2.0
PRODID:-//wp-events-plugin.com//7.2.3.1//EN
TZID:Europe/Berlin
X-WR-TIMEZONE:Europe/Berlin
BEGIN:VEVENT
UID:0-1994@gruene-xhain.de
DTSTART;TZID=Europe/Berlin:20260511T180000
DTEND;TZID=Europe/Berlin:20260511T203000
DTSTAMP:20260419T100823Z
URL:https://gruene-xhain.de/veranstaltungen/fraktionssitzung-der-gruenen-b
 vv-fraktion-xhain-hybrid-2026-05-11/
SUMMARY:Fraktionssitzung der Grünen BVV-Fraktion Xhain (hybrid)
DESCRIPTION:Fraktionssitzung der Grünen Fraktion Friedrichshain-Kreuzberg.
 \n\nOrt: ehemaliges Rathaus Kreuzberg\, Yorckstr. 4-11\, Raum 1053\, 10965
  Berlin\n\nAufgrund begrenzter Platzkapazitäten im Raum\, bitten wir um e
 ine  Anmeldung bis Montag\, 14:00 Uhr\, ebenso für die Teilnahme über u
 nser Konferenztool\n\nbei unserer Fraktionsgeschäftsführerin Iris Burkha
 rdt\,  per E-Mail fraktion(at)gruene-xhain.de.\n\nWir freuen uns auf Euc
 h!
ATTACH;FMTTYPE=image/jpeg:https://gruene-xhain.de/wp-content/uploads/2025/
 06/Symbolbild-Fraktionssitzung.jpg
CATEGORIES:Fraktion
LOCATION:Yorckstraße\, Raum 1053\, Yorckstr. 4-11\, Berlin\, 10965\, 
GEO:52.493719;13.385019
X-APPLE-STRUCTURED-LOCATION;VALUE=URI;X-ADDRESS=Raum 1053\, Yorckstr. 4-11\
 , Berlin\, 10965\, ;X-APPLE-RADIUS=100;X-TITLE=Yorckstraße:geo:52.493719,
 13.385019
END:VEVENT
BEGIN:VTIMEZONE
TZID:Europe/Berlin
X-LIC-LOCATION:Europe/Berlin
BEGIN:DAYLIGHT
DTSTART:20260329T030000
TZOFFSETFROM:+0100
TZOFFSETTO:+0200
TZNAME:CEST
END:DAYLIGHT
END:VTIMEZONE
END:VCALENDAR