BEGIN:VCALENDAR
VERSION:2.0
PRODID:-//wp-events-plugin.com//7.2.3.1//EN
TZID:Europe/Berlin
X-WR-TIMEZONE:Europe/Berlin
BEGIN:VEVENT
UID:0-2000@gruene-xhain.de
DTSTART;TZID=Europe/Berlin:20260622T180000
DTEND;TZID=Europe/Berlin:20260622T203000
DTSTAMP:20260419T093542Z
URL:https://gruene-xhain.de/veranstaltungen/fraktionssitzung-der-gruenen-b
 vv-fraktion-xhain-hybrid-2026-06-22/
SUMMARY:Fraktionssitzung der Grünen BVV-Fraktion Xhain (online)
DESCRIPTION:Fraktionssitzung der Grünen Fraktion Friedrichshain-Kreuzberg.
 \n\nOrt: online\n\nFür die Zusendung der Zugangsdaten\, bitten wir um ein
 e E-Mail an unsere Fraktionsgeschäftsführerin Ronja Schicke\, fraktion(a
 t)gruene-xhain.de\, bis Montag\, 14 Uhr.\n\nWir freuen uns auf Euch!\n\n&n
 bsp\;
ATTACH;FMTTYPE=image/jpeg:https://gruene-xhain.de/wp-content/uploads/2025/
 06/Symbolbild-Fraktionssitzung.jpg
CATEGORIES:Fraktion
END:VEVENT
BEGIN:VTIMEZONE
TZID:Europe/Berlin
X-LIC-LOCATION:Europe/Berlin
BEGIN:DAYLIGHT
DTSTART:20260329T030000
TZOFFSETFROM:+0100
TZOFFSETTO:+0200
TZNAME:CEST
END:DAYLIGHT
END:VTIMEZONE
END:VCALENDAR