BEGIN:VCALENDAR
VERSION:2.0
PRODID:-//wp-events-plugin.com//7.2.3.1//EN
TZID:Europe/Berlin
X-WR-TIMEZONE:Europe/Berlin
BEGIN:VEVENT
UID:0-824@gruene-xhain.de
DTSTART;TZID=Europe/Berlin:20231109T190000
DTEND;TZID=Europe/Berlin:20231109T210000
DTSTAMP:20231030T084209Z
URL:https://gruene-xhain.de/veranstaltungen/gj-xhain-aktiventreffen-zum-th
 ema-gedenken-an-die-reichsprogromnacht-und-gegen-jeden-antisemitismus/
SUMMARY:GJ Xhain: Aktiventreffen zum Thema Gedenken an die Reichsprogromnac
 ht und gegen jeden Antisemitismus
DESCRIPTION:\n\n09.11.23 19:00 - 21:00 Aktiventreffen Grüne Jugend X-hain 
 zum Thema Gedenken an die Reichsprogromnacht und gegen jeden Antisemitismu
 s\n\n\n\n\nAnsprechperson: Leonie Back\, xhain@gj-berlin.de\nWo: LGS Dirsc
 hauer Straße 13\, 10245 Berlin \n\n
ATTACH;FMTTYPE=image/jpeg:https://gruene-xhain.de/wp-content/uploads/2023/
 04/GJ.jpg
LOCATION:GJ Xhain\, Dirschauerstraße 13\, Berlin\, 10245\, Deutschland
GEO:52.508319;13.457099
X-APPLE-STRUCTURED-LOCATION;VALUE=URI;X-ADDRESS=Dirschauerstraße 13\, Berl
 in\, 10245\, Deutschland;X-APPLE-RADIUS=100;X-TITLE=GJ Xhain:geo:52.508319
 ,13.457099
END:VEVENT
BEGIN:VTIMEZONE
TZID:Europe/Berlin
X-LIC-LOCATION:Europe/Berlin
BEGIN:STANDARD
DTSTART:20231029T020000
TZOFFSETFROM:+0200
TZOFFSETTO:+0100
TZNAME:CET
END:STANDARD
END:VTIMEZONE
END:VCALENDAR