BEGIN:VCALENDAR
VERSION:2.0
PRODID:-//wp-events-plugin.com//7.2.3.1//EN
TZID:Europe/Berlin
X-WR-TIMEZONE:Europe/Berlin
BEGIN:VEVENT
UID:0-60@gruene-xhain.de
DTSTART;TZID=Europe/Berlin:20210615T183000
DTEND;TZID=Europe/Berlin:20210615T200000
DTSTAMP:20210611T074626Z
URL:https://gruene-xhain.de/veranstaltungen/globale-gerechtigkeit-und-inte
 rnationale-solidaritaet/
SUMMARY:Globale Gerechtigkeit und internationale Solidarität u.a. mit Cana
 n Bayram MdB
DESCRIPTION:Canan Bayram MdB im Online-Gespräch mit Barbara Unmüßig (Hei
 nrich-Böll-Stiftung) und Hans-Christian Ströbele (MdB a.D.)\n\nMehr denn
  je hat unsere Art zu Leben und die Zukunft zu gestalten direkte Auswirkun
 gen auf das Leben\, die Sicherheit und den Frieden von Menschen weltweit. 
 Der Einsatz für Globale Gerechtigkeit ist zwingende Bedingung für friedl
 iches Zusammenleben und die gerechte Verteilung von Ressourcen. Klimaschu
 tz\, Biodiversität und eine nachhaltige Friedenspolitik müssen zusammen 
 gedacht werden. Wer muss dafür die Regeln aufsetzen und wer ist für die 
 Durchsetzung verantwortlich?\n\nWie Antworten aus grüner Perspektive auf 
 diese Zukunftsfragen aussehen können\, möchte ich in einem Online-Gespr
 äch mit Barbara Unmüßig und Hans-Christian Ströbele diskutieren. Barba
 ra Unmüßig ist Politologin und seit 2002 Vorstand der Heinrich-Böll-Sti
 ftung. Im Vorstand hat sie die Federführung für die internationale Arbei
 t der Stiftung in Lateinamerika\, Afrika\, Asien und im Nahen Osten &amp\;
  Nordafrika sowie für die internationale Arbeit in den Bereichen Ressourc
 en- und Klimapolitik\, Agrarpolitik\, Geschlechterpolitik\, Demokratiepoli
 tik und internationale Politik. Hans-Christian Ströbele ist Rechtsanwalt 
 und war von 2002 bis 2017 Mitglied des Deutschen Bundestages und dort sowo
 hl mit der Kontrolle der Geheimdienste als auch Mitglied im Rechtsausschus
 s und im Auswärtigen Ausschuss.
LOCATION:https://us02web.zoom.us/j/83534599647
END:VEVENT
BEGIN:VTIMEZONE
TZID:Europe/Berlin
X-LIC-LOCATION:Europe/Berlin
BEGIN:DAYLIGHT
DTSTART:20210328T030000
TZOFFSETFROM:+0100
TZOFFSETTO:+0200
TZNAME:CEST
END:DAYLIGHT
END:VTIMEZONE
END:VCALENDAR