BEGIN:VCALENDAR
VERSION:2.0
PRODID:-//wp-events-plugin.com//7.2.3.1//EN
TZID:Europe/Berlin
X-WR-TIMEZONE:Europe/Berlin
BEGIN:VEVENT
UID:0-1961@gruene-xhain.de
DTSTART;TZID=Europe/Berlin:20250607T120000
DTEND;TZID=Europe/Berlin:20250607T180000
DTSTAMP:20250602T092529Z
URL:https://gruene-xhain.de/veranstaltungen/gruene-xhain-auf-dem-karneval-
 der-kulturen/
SUMMARY:Grüne Xhain auf dem Karneval der Kulturen
DESCRIPTION:Die Grünen Xhain auf'm Karneval der Kulturen! Wir möchten am 
 Eingang des Straßenfests auf dem Blücherplatz stehen und mit Bürger*inn
 en zu Themen ins Gespräch kommen\, die diese derzeit umtreiben. Du hast L
 ust\, am Stand mitzumachen? Dann melde dich bei milan.bachmann@gruene-xhai
 n.de!
ATTACH;FMTTYPE=image/jpeg:https://gruene-xhain.de/wp-content/uploads/2025/
 06/einmalige-Veranstaltungen-1080-x-1350-px4.jpg
LOCATION:Blücherplatz\, Blücherplatz\, Berlin\, Deutschland
GEO:52.496697;13.391145
X-APPLE-STRUCTURED-LOCATION;VALUE=URI;X-ADDRESS=Blücherplatz\, Berlin\, De
 utschland;X-APPLE-RADIUS=100;X-TITLE=Blücherplatz:geo:52.496697,13.391145
END:VEVENT
BEGIN:VTIMEZONE
TZID:Europe/Berlin
X-LIC-LOCATION:Europe/Berlin
BEGIN:DAYLIGHT
DTSTART:20250330T030000
TZOFFSETFROM:+0100
TZOFFSETTO:+0200
TZNAME:CEST
END:DAYLIGHT
END:VTIMEZONE
END:VCALENDAR