BEGIN:VCALENDAR
VERSION:2.0
PRODID:-//wp-events-plugin.com//7.2.3.1//EN
TZID:Europe/Berlin
X-WR-TIMEZONE:Europe/Berlin
BEGIN:VEVENT
UID:0-1832@gruene-xhain.de
DTSTART;TZID=Europe/Berlin:20250601T100000
DTEND;TZID=Europe/Berlin:20250601T140000
DTSTAMP:20250520T142014Z
URL:https://gruene-xhain.de/veranstaltungen/gruene-xhain-bei-der-sternfahr
 t-des-adfc/
SUMMARY:Grüne Xhain bei der Sternfahrt des ADFC
DESCRIPTION:Am 1.6. ist es wieder soweit. Bei der #Sternfahrt des ADFC kön
 nen wir testen\, wie es sich anfühlt bequem und sicher in Berlin Rad zu f
 ahren - ganz ohne Autos auf den Straßen. Kommt mit uns aufs Rad und demon
 striert für bessere Radwege und mehr Sicherheit!\n\nDie AG Mobilität und
  unsere grüne BVV-Fraktion laden euch ein: Um 10 Uhr treffen wir uns gem
 ütlich zum Frühstücken\, Austauschen und Plakatemalen im Igelbau. Um 12
  Uhr geht es am Kotti los mit dem Rad.\n\nGanz nebenbei sammeln wir hier K
 ilometer fürs #Stadtradeln.
ATTACH;FMTTYPE=image/jpeg:https://gruene-xhain.de/wp-content/uploads/2025/
 05/Einmalige-Veranstaltungen-1600-×-900-px1.jpg
LOCATION:Igelbau\, Dresdener Straße 10\, Berlin\, 10999\, Deutschland
GEO:52.500571;13.417794
X-APPLE-STRUCTURED-LOCATION;VALUE=URI;X-ADDRESS=Dresdener Straße 10\, Berl
 in\, 10999\, Deutschland;X-APPLE-RADIUS=100;X-TITLE=Igelbau:geo:52.500571,
 13.417794
END:VEVENT
BEGIN:VTIMEZONE
TZID:Europe/Berlin
X-LIC-LOCATION:Europe/Berlin
BEGIN:DAYLIGHT
DTSTART:20250330T030000
TZOFFSETFROM:+0100
TZOFFSETTO:+0200
TZNAME:CEST
END:DAYLIGHT
END:VTIMEZONE
END:VCALENDAR