BEGIN:VCALENDAR
VERSION:2.0
PRODID:-//wp-events-plugin.com//7.2.3.1//EN
TZID:Europe/Berlin
X-WR-TIMEZONE:Europe/Berlin
BEGIN:VEVENT
UID:0-43@gruene-xhain.de
DTSTART;TZID=Europe/Berlin:20210520T190000
DTEND;TZID=Europe/Berlin:20210520T210000
DTSTAMP:20210514T115459Z
URL:https://gruene-xhain.de/veranstaltungen/kiezteamtreffen-wk-6-friedrich
 shainer-suedkiez/
SUMMARY:Kiezteamtreffen WK 6: Friedrichshainer Südkiez
DESCRIPTION:Ansprechperson: Julian Schwarze\nBitte anmelden unter: julian.s
 chwarze@gruene-xhain.de\n\nDu hast Lust unsere Direktkandidat*innen für d
 as Abgeordnetenhaus zu unterstützen? Dann werde Teil der Kiezteams\, alle
  Infos unter https://gruene-xhain.de/faq_kiezteams/
END:VEVENT
BEGIN:VTIMEZONE
TZID:Europe/Berlin
X-LIC-LOCATION:Europe/Berlin
BEGIN:DAYLIGHT
DTSTART:20210328T030000
TZOFFSETFROM:+0100
TZOFFSETTO:+0200
TZNAME:CEST
END:DAYLIGHT
END:VTIMEZONE
END:VCALENDAR