BEGIN:VCALENDAR
VERSION:2.0
PRODID:-//wp-events-plugin.com//7.2.3.1//EN
TZID:Europe/Berlin
X-WR-TIMEZONE:Europe/Berlin
BEGIN:VEVENT
UID:0-1967@gruene-xhain.de
DTSTART;TZID=Europe/Berlin:20250625T174500
DTEND;TZID=Europe/Berlin:20250625T194500
DTSTAMP:20250610T192917Z
URL:https://gruene-xhain.de/veranstaltungen/monika-erklaert-die-bvv-2/
SUMMARY:Monika erklärt die BVV
DESCRIPTION:Am Mittwoch\, den 25.05. findet um 17:45 Uhr wieder unsere Vera
 nstaltung „Monika erklärt die BVV“ statt.\nIdee der Veranstaltung ist
  es\, gemeinsam mit euch im BVV Saal die Bezirksverordnetenversammlung (BV
 V) zu schauen\, welche live von Monika Herrmann kommentiert wird. Des Weit
 eren könnt ihr jederzeit eure Fragen loswerden. Eine Anmeldung ist nicht 
 nötig. Seid einfach pünktlich am Treffpunkt mit Monika.\n\nWann: 17:45 U
 hr Treffen\, BVV Beginn 18:00Uhr\nWo: Wir treffen uns vor dem BVV Saal Yor
 ck Str. 4-11\n\n&nbsp\;\n\nBis hoffentlich Mittwoch!\nEurer Xhain-Team
ATTACH;FMTTYPE=image/jpeg:https://gruene-xhain.de/wp-content/uploads/2025/
 06/Regelmaessige-Veranstaltungen-Instagram-Post-451.jpg
LOCATION:BVV\, Yorckstraße 4 - 11\, Berlin \, 10965\, Deutschland
GEO:52.493664;13.385086
X-APPLE-STRUCTURED-LOCATION;VALUE=URI;X-ADDRESS=Yorckstraße 4 - 11\, Berli
 n \, 10965\, Deutschland;X-APPLE-RADIUS=100;X-TITLE=BVV:geo:52.493664,13.3
 85086
END:VEVENT
BEGIN:VTIMEZONE
TZID:Europe/Berlin
X-LIC-LOCATION:Europe/Berlin
BEGIN:DAYLIGHT
DTSTART:20250330T030000
TZOFFSETFROM:+0100
TZOFFSETTO:+0200
TZNAME:CEST
END:DAYLIGHT
END:VTIMEZONE
END:VCALENDAR