BEGIN:VCALENDAR
VERSION:2.0
PRODID:-//wp-events-plugin.com//7.2.3.1//EN
TZID:Europe/Berlin
X-WR-TIMEZONE:Europe/Berlin
BEGIN:VEVENT
UID:0-1044@gruene-xhain.de
DTSTART;TZID=Europe/Berlin:20240320T174500
DTEND;TZID=Europe/Berlin:20240320T200000
DTSTAMP:20240311T152641Z
URL:https://gruene-xhain.de/veranstaltungen/monika-erklaert-die-bvv-bezirk
 sverordnetenversammlung/
SUMMARY:Monika erklärt die BVV (Bezirksverordnetenversammlung)
DESCRIPTION:Liebe Freund*innen\,\ndiesen Monat findet wieder unsere Veranst
 altung „Monika erklärt die BVV“ statt. Idee der Veranstaltung ist es\
 , gemeinsam mit euch im BVV-Saal die Bezirksverordnetenversammlung (BVV) z
 u schauen\, welche live von Monika Herrmann kommentiert wird. Des Weiteren
  könnt ihr jederzeit eure Fragen loswerden. Eine Anmeldung ist nicht nöt
 ig.\n\nWann: 17:45 Uhr\nWo: BVV-Saal\, Yorckstr. 4-11\, 10965 Berlin\n
ATTACH;FMTTYPE=image/jpeg:https://gruene-xhain.de/wp-content/uploads/2024/
 03/Website-Fotos-fuer-Termine17.jpg
LOCATION:BVV\, Yorckstraße 4 - 11\, Berlin \, 10965\, Deutschland
GEO:52.493664;13.385086
X-APPLE-STRUCTURED-LOCATION;VALUE=URI;X-ADDRESS=Yorckstraße 4 - 11\, Berli
 n \, 10965\, Deutschland;X-APPLE-RADIUS=100;X-TITLE=BVV:geo:52.493664,13.3
 85086
END:VEVENT
BEGIN:VTIMEZONE
TZID:Europe/Berlin
X-LIC-LOCATION:Europe/Berlin
BEGIN:STANDARD
DTSTART:20231029T020000
TZOFFSETFROM:+0200
TZOFFSETTO:+0100
TZNAME:CET
END:STANDARD
END:VTIMEZONE
END:VCALENDAR