BEGIN:VCALENDAR
VERSION:2.0
PRODID:-//wp-events-plugin.com//7.2.3.1//EN
TZID:Europe/Berlin
X-WR-TIMEZONE:Europe/Berlin
BEGIN:VEVENT
UID:0-41@gruene-xhain.de
DTSTART;TZID=Europe/Berlin:20210518T193000
DTEND;TZID=Europe/Berlin:20210518T203000
DTSTAMP:20210514T115653Z
URL:https://gruene-xhain.de/veranstaltungen/online-kiezgespraech-rudolf-la
 skerkiez/
SUMMARY:Online-Kiezgespräch Rudolf-/Laskerkiez
DESCRIPTION:Ansprechperson: Julian Schwarze
LOCATION:https://gruenlink.de/2237
END:VEVENT
BEGIN:VTIMEZONE
TZID:Europe/Berlin
X-LIC-LOCATION:Europe/Berlin
BEGIN:DAYLIGHT
DTSTART:20210328T030000
TZOFFSETFROM:+0100
TZOFFSETTO:+0200
TZNAME:CEST
END:DAYLIGHT
END:VTIMEZONE
END:VCALENDAR