BEGIN:VCALENDAR
VERSION:2.0
PRODID:-//wp-events-plugin.com//7.2.3.1//EN
TZID:Europe/Berlin
X-WR-TIMEZONE:Europe/Berlin
BEGIN:VEVENT
UID:0-1833@gruene-xhain.de
DTSTART;TZID=Europe/Berlin:20250528T180000
DTEND;TZID=Europe/Berlin:20250528T193000
DTSTAMP:20250520T144138Z
URL:https://gruene-xhain.de/veranstaltungen/podiumsdiskussion-schwarz-rot-
 im-bund-die-auswirkungen-auf-berlin-und-die-bezirke/
SUMMARY:Podiumsdiskussion "Schwarz-Rot im Bund - die Auswirkungen auf Berli
 n und die Bezirke"
DESCRIPTION:Schwarz-Rot regiert jetzt auch im Bund – was bedeutet das fü
 r Berlin und die Bezirke? Diskutiere am 28. Mai ab 18 Uhr bei unserer Podi
 umsdiskussion mit spannenden Gästen über Mieten-\, Verkehrs- und Klimasc
 hutzpolitik. Keine Anmeldung notwendig.\nZu Gast:\n\nPhilmon Ghirmai (Land
 esvorsitzender Bündnis 90/Die Grünen)\n\nMonika Herrmann (Vorstandsmitgl
 ied\, Bündnis 90/Die Grünen in Xhain\, ehemalige Bürgermeisterin)\n\nKa
 trin Schmidberger (MdA\, Sprecherin für Wohnen und Mieten)\n\nModeration:
  Dr. Turgut Altuğ (MdA\, Sprecher für Naturschutz\, Umwelt- und Naturbil
 dung sowie Ernährung und Landwirtschaft\, Wahlkreisabgeordneter Kreuzberg
 )
ATTACH;FMTTYPE=image/jpeg:https://gruene-xhain.de/wp-content/uploads/2025/
 05/Sharepic_Podiumsdiskussion_1.jpg
LOCATION:Stadtteilzentrum Familiengarten\, Oranienstr. 34\, Berlin\, Deutsc
 hland
GEO:52.501719;13.418318
X-APPLE-STRUCTURED-LOCATION;VALUE=URI;X-ADDRESS=Oranienstr. 34\, Berlin\, D
 eutschland;X-APPLE-RADIUS=100;X-TITLE=Stadtteilzentrum Familiengarten:geo:
 52.501719,13.418318
END:VEVENT
BEGIN:VTIMEZONE
TZID:Europe/Berlin
X-LIC-LOCATION:Europe/Berlin
BEGIN:DAYLIGHT
DTSTART:20250330T030000
TZOFFSETFROM:+0100
TZOFFSETTO:+0200
TZNAME:CEST
END:DAYLIGHT
END:VTIMEZONE
END:VCALENDAR