BEGIN:VCALENDAR
VERSION:2.0
PRODID:-//wp-events-plugin.com//7.2.3.1//EN
TZID:Europe/Berlin
X-WR-TIMEZONE:Europe/Berlin
BEGIN:VEVENT
UID:0-1376@gruene-xhain.de
DTSTART;TZID=Europe/Berlin:20250923T200000
DTEND;TZID=Europe/Berlin:20250923T220000
DTSTAMP:20250916T134234Z
URL:https://gruene-xhain.de/veranstaltungen/polit-plausch-xhain-2025-09-23
 /
SUMMARY:Polit-Plausch Xhain
DESCRIPTION:Liebe Freund*innen\,\n\nan jedem 4. eines Monats kommen wir mit
  euch beim "Polit-Plausch" am 20:00Uhr zum lockeren Kennenlernen\, Austaus
 chen und Diskutieren zusammen. Eine Anmeldung ist nicht erforderlich\, und
  wer etwas später kommt oder früher geht\, ist auch willkommen. Diese Ve
 ranstaltung findet direkt nach unseren Interessierten- und Neuentreffen st
 att.\n\n&nbsp\;\n\nTreffpunkt diesmal: Südblock\, Admiralstraße 1-2\, 10
 999 Berlin
ATTACH;FMTTYPE=image/jpeg:https://gruene-xhain.de/wp-content/uploads/2025/
 02/Stammtisch-1080-x-1350-px5.jpg
LOCATION:Südblock\, Admiralstraße 1-2\, Berlin\, 10999\, Deutschland
GEO:52.498287;13.416821
X-APPLE-STRUCTURED-LOCATION;VALUE=URI;X-ADDRESS=Admiralstraße 1-2\, Berlin
 \, 10999\, Deutschland;X-APPLE-RADIUS=100;X-TITLE=Südblock:geo:52.498287,
 13.416821
END:VEVENT
BEGIN:VTIMEZONE
TZID:Europe/Berlin
X-LIC-LOCATION:Europe/Berlin
BEGIN:DAYLIGHT
DTSTART:20250330T030000
TZOFFSETFROM:+0100
TZOFFSETTO:+0200
TZNAME:CEST
END:DAYLIGHT
END:VTIMEZONE
END:VCALENDAR