BEGIN:VCALENDAR
VERSION:2.0
PRODID:-//wp-events-plugin.com//7.2.3.1//EN
TZID:Europe/Berlin
X-WR-TIMEZONE:Europe/Berlin
BEGIN:VEVENT
UID:0-2302@gruene-xhain.de
DTSTART;TZID=Europe/Berlin:20260629T180000
DTEND;TZID=Europe/Berlin:20260629T220000
DTSTAMP:20260419T093104Z
URL:https://gruene-xhain.de/veranstaltungen/save-the-date-sommerfest-gruen
 e-fraktion-und-des-gruenen-kreisverbands-xhain/
SUMMARY:Save the Date - Sommerfest Grüne Fraktion und des Grünen Kreisver
 bands Xhain
DESCRIPTION:Liebe Xhainer*innen\, liebe Freund*innen\,\n\nam 29. Juni möch
 ten wir mit euch in den Sommer feiern\, zu unserem jährlichen Sommerempfa
 ng.\nAlle Details und die Möglichkeit zur Anmeldung folgen\, hier wie auc
 h auf allen  Social Media Kanälen!\n\nUm keine Neuigkeiten zu verpassen 
 und die alles bequem im Postfach zu haben\, meldet euch gerne zu unserem N
 ewsletter an.\n\n Ja\, ich möchte eingeladen werden und keine Neuigkeite
 n verpassen. \n\n\nAuf bald Eure grüne Fraktion und Euer Geschäftsführ
 ender Ausschuss.\n\n&nbsp\;
ATTACH;FMTTYPE=image/jpeg:https://gruene-xhain.de/wp-content/uploads/2026/
 04/DSCF5550-e1776591042827.jpg
CATEGORIES:Fraktion,Xhain
END:VEVENT
BEGIN:VTIMEZONE
TZID:Europe/Berlin
X-LIC-LOCATION:Europe/Berlin
BEGIN:DAYLIGHT
DTSTART:20260329T030000
TZOFFSETFROM:+0100
TZOFFSETTO:+0200
TZNAME:CEST
END:DAYLIGHT
END:VTIMEZONE
END:VCALENDAR