BEGIN:VCALENDAR
VERSION:2.0
PRODID:-//wp-events-plugin.com//7.2.3.1//EN
TZID:Europe/Berlin
X-WR-TIMEZONE:Europe/Berlin
BEGIN:VEVENT
UID:0-1617@gruene-xhain.de
DTSTART;TZID=Europe/Berlin:20250630T180000
DTEND;TZID=Europe/Berlin:20250630T220000
DTSTAMP:20250526T210657Z
URL:https://gruene-xhain.de/veranstaltungen/sommer-sonne-solidaritaet-somm
 erempfang-der-gruenen-fraktion-und-des-gruenen-kreisverbands-xhain/
SUMMARY:Sommer. Sonne. Solidarität: Sommerempfang der Grünen Fraktion und
  des Grünen Kreisverbands Xhain
DESCRIPTION:\n\nLiebe Xhainer*innen\, liebe Freund*innen\,\n\nXhain lebt vo
 m Mitmachen – von eurer Energie\, euren Ideen und eurem Einsatz für ein
  solidarisches\, vielfältiges und grünes Miteinander. Dafür möchten wi
 r Danke sagen und mit euch feiern. Lasst uns bei kühlen Getränken\, klei
 nen Leckereien und entspannten Gesprächen zusammenkommen. Wir freuen uns 
 besonders auf die Rede von Ricarda Lang und ihre Impulse!\n\nBitte meldet 
 euch bis 23. Juni hier an\, danach bitte eine E-Mail an fraktion@gruene-x
 hain.de\n\n\nWenn wir euch auch weiterhin per Mail einladen dürfen\, dann
  sagt uns bitte hier zu: Ja\, ich möchte wieder eingeladen werden. \n\n\
 n\nWenn du zudem über unsere politische Arbeit informiert werden möchtes
 t\, melde dich hier für unseren bald wieder erscheinenden Newsletter an.\
 n\n\nEure Grüne Fraktion in der BVV und euer Grüner Kreisverband in Xhai
 n\n\n\n\n\n
ATTACH;FMTTYPE=image/jpeg:https://gruene-xhain.de/wp-content/uploads/2025/
 05/unnamed.jpg
CATEGORIES:Fraktion,Xhain
LOCATION:Cassiopeia Sommergarten\, Revaler Str. 99\, Berlin\, 10245\, Deuts
 chland
GEO:52.50717;13.45292
X-APPLE-STRUCTURED-LOCATION;VALUE=URI;X-ADDRESS=Revaler Str. 99\, Berlin\, 
 10245\, Deutschland;X-APPLE-RADIUS=100;X-TITLE=Cassiopeia Sommergarten:geo
 :52.50717,13.45292
END:VEVENT
BEGIN:VTIMEZONE
TZID:Europe/Berlin
X-LIC-LOCATION:Europe/Berlin
BEGIN:DAYLIGHT
DTSTART:20250330T030000
TZOFFSETFROM:+0100
TZOFFSETTO:+0200
TZNAME:CEST
END:DAYLIGHT
END:VTIMEZONE
END:VCALENDAR