BEGIN:VCALENDAR
VERSION:2.0
PRODID:-//wp-events-plugin.com//7.2.3.1//EN
TZID:Europe/Berlin
X-WR-TIMEZONE:Europe/Berlin
BEGIN:VEVENT
UID:0-823@gruene-xhain.de
DTSTART;TZID=Europe/Berlin:20231109T160000
DTEND;TZID=Europe/Berlin:20231109T173000
DTSTAMP:20231030T083855Z
URL:https://gruene-xhain.de/veranstaltungen/stolpersteine-putzen-im-samari
 terkiez-mit-vasili-franco/
SUMMARY:Stolpersteine putzen im Samariterkiez mit Vasili Franco
DESCRIPTION:\n\n09.11.23 16:00-17:30 Uhr:  Stolpersteine putzen im Samarit
 erkiez mit Vasili Franco\n\n\n\n\nAnsprechperson: Meldet euch gerne unter 
 buero2.franco@gruene-fraktion.berlin an oder kommt einfach so vorbei!\nWo:
  Treffpunkt ist vor der Waldeyerstr. 1a\, 10247 Berlin\n\n
ATTACH;FMTTYPE=image/jpeg:https://gruene-xhain.de/wp-content/uploads/2023/
 10/Roxana-4.jpg
END:VEVENT
BEGIN:VTIMEZONE
TZID:Europe/Berlin
X-LIC-LOCATION:Europe/Berlin
BEGIN:STANDARD
DTSTART:20231029T020000
TZOFFSETFROM:+0200
TZOFFSETTO:+0100
TZNAME:CET
END:STANDARD
END:VTIMEZONE
END:VCALENDAR