BEGIN:VCALENDAR
VERSION:2.0
PRODID:-//wp-events-plugin.com//7.2.3.1//EN
TZID:Europe/Berlin
X-WR-TIMEZONE:Europe/Berlin
BEGIN:VEVENT
UID:0-1071@gruene-xhain.de
DTSTART;TZID=Europe/Berlin:20240625T190000
DTEND;TZID=Europe/Berlin:20240625T203000
DTSTAMP:20240528T141841Z
URL:https://gruene-xhain.de/veranstaltungen/themenabend-2-2024-06-25/
SUMMARY:Themenabend "Der Krieg gegen Frauen im Iran - Wie der Terror der Si
 ttenpolizei dem Mullah-Regime die Macht erhalten soll"
DESCRIPTION:Liebe Freund*innen\,\n\nwir laden euch herzlich zu unserem FLIN
 TA*-only Themenabend „Der Krieg gegen die Frauen im Iran“ am 25. Juni 
 ab 19:00 Uhr im Refugio in Berlin-Neukölln (Lenaustr. 3-4) ein.\n\n[FLINT
 A* steht für Frauen\, Lesben\, inter\, nicht-binäre und agender Personen
 ]\n\nNicht erst seit ihrem brutalen Vorgehen gegen die damals 22-jährige 
 iranische Kurdin Jîna Mahsa Amini steht die sogenannte Sittenpolizei für
  die unbarmherzige Gewalt und den Terror\, mit dem Frauen im Iran tagtägl
 ich konfrontiert sind. Die Unterdrückung der Frauen ist ein elementarer S
 tützpfeiler des radikal-religiösen Mullah-Regimes\, das jegliche Opposit
 ion und jede Forderung der Liberalisierung im Keim zu ersticken versucht. 
 2022 ging der Slogan „Frau\, Leben\, Freiheit“ \; „Jin\, Jiyan\, Aza
 dî“ (kurdisch)\; Zan\, Zendegi\, Āzādi (persisch) um die Welt. Mit Ba
 raye von Shervin Hajipour bekam die alle gesellschaftlichen Gruppen umfass
 ende Protestbewegung\, die auf die Ermordnung Jîna Aminis folgte\, eine H
 ymne.\n\nFast zwei Jahre nach Jînas gewaltsamen Tod\, wollen wir gemeinsa
 m mit Echo.Iran und allen interessierten FLINTA Personen sprechen über:\n
 \n- Die Rolle der Frauen im Widerstand gegen das iranische Regime\n\n- Die
  geschlechtsspezifische Unterdrückung und Gewalt\, die Frauen im Iran erf
 ahren\, insb. durch die Sittenpolizei\n\n- Die aktuelle Lage im Iran\, was
  sich die Menschen dort für ihre Zukunft wünschen und was Deutschland tu
 n sollte\, um die Freiheitsbewegung zu unterstützen\n\nDa wir bei diesem 
 Themenabend ein besonderes Augenmerk auf die geschlechterspezifische Dimen
 sion legen wollen\, bitten wir alle Personen\, die sich nicht als FLINTA* 
 identifizieren von einer Teilnahme abzusehen und uns zu erlauben hier eine
 n geschützten Raum für die Referentinnen und Teilnehmer*innen zu bieten.
 \n\nHinweise:\nEure Teilnahme ist uns sehr wichtig\, egal ob ihr schon lan
 ge Mitglied oder gerade erst beigetreten seid. Solltet ihr nicht persönli
 ch teilnehmen können\, freuen wir uns über eure Gedanken und Anregungen 
 per E-Mail an info@gruene-xhain.de.\n\nFür Gebärdendolmetschen und Kinde
 rbetreuung bitten wir um eine vorherige Anmeldung unter info@gruene-xhain.
 de\n\nWir freuen uns auf einen verbindenden und erkenntnisreichen Abend mi
 t euch.\n\nMit stachligen Grüßen\nAlena\, Alina\, Clara\, Jenny\, Kübra
  und Monika für den Geschäftsführenden Ausschuss
ATTACH;FMTTYPE=image/jpeg:https://gruene-xhain.de/wp-content/uploads/2024/
 05/Bezirksgruppe15.jpg
END:VEVENT
BEGIN:VTIMEZONE
TZID:Europe/Berlin
X-LIC-LOCATION:Europe/Berlin
BEGIN:DAYLIGHT
DTSTART:20240331T030000
TZOFFSETFROM:+0100
TZOFFSETTO:+0200
TZNAME:CEST
END:DAYLIGHT
END:VTIMEZONE
END:VCALENDAR