BEGIN:VCALENDAR
VERSION:2.0
PRODID:-//wp-events-plugin.com//7.2.3.1//EN
TZID:Europe/Berlin
X-WR-TIMEZONE:Europe/Berlin
BEGIN:VEVENT
UID:0-1075@gruene-xhain.de
DTSTART;TZID=Europe/Berlin:20241022T190000
DTEND;TZID=Europe/Berlin:20241022T203000
DTSTAMP:20241014T124621Z
URL:https://gruene-xhain.de/veranstaltungen/themenabend-2-2024-10-22/
SUMMARY:Sonder-Bezirksgruppe zu Änderungsanträge BDK/LDK & "US-Wahlkampf"
DESCRIPTION:Welche Rolle spielt grüne Wirtschaftspolitik im aktuellen US-W
 ahlkampf? Kann sie ein entscheidender Faktor sein\, um Kamala Harris – u
 nd damit der Demokratischen Partei - den Wahlsieg zu sichern? Gemeinsam mi
 t Andreas Audretsch (Mitglied des Bundestages und stellvertretender Frakti
 onsvorsitzender der Grünen) werfen wir einen Blick auf die wirtschaftspol
 itischen Ansätze der US-Demokraten und fragen uns\, welche Lehren daraus 
 für uns gezogen werden können.\n\nDabei wird uns Andreas von seiner Reis
 e in die USA im März '24 berichten\, wo er den Wandel von fossilen Indust
 rien hin zu grüner Wirtschaft erlebte. In Gesprächen mit der Biden-Admin
 istration\, Gewerkschaften und der Zivilgesellschaft hat er erlebt\, wie B
 idenomics bereits wirken.\n\nNach Beschluss der Bezirksgruppe am 08.10.24 
 findet am 22.10.24 eine Sonder-Bezirksgruppe statt\, in der wir unter ande
 rem über Änderungsanträge zu Anträgen auf der Bundesdelegiertenkonfere
 nz abstimmen\, die wir als Kreisverband einbringen wollen. Die Änderungsa
 nträge\, über die wir anschließend abstimmen\, möchten wir bei der kom
 menden Bundesdelegiertenkonferenz (BDK - 15.-17.11.24) und Landesdelegiert
 enkonferenz (LDK - 30.11.24) einbringen. Anträge einsehen und stellen kö
 nnt ihr im Antragsgrün unter folgendem Link: https://bgaenderungbdk.antra
 gsgruen.de/\n\nIm Zuge einer besseren Vereinbarkeit und Zugänglichkeit bi
 eten wir euch auch einen Livestream der Veranstaltung an. Es wird euch dab
 ei auch ermöglicht\, Fragen zu stellen: https://eu02web.zoom-x.de/j/65542
 447309?pwd=dk1sMWpHRExRSXBDcE4rc0VSZnN6UT09
ATTACH;FMTTYPE=image/jpeg:https://gruene-xhain.de/wp-content/uploads/2024/
 05/Bezirksgruppe4.jpg
LOCATION:LUX\, Schlesische Str. 41\, 10997 Berlin\, Deutschland
GEO:52.500417;13.443779
X-APPLE-STRUCTURED-LOCATION;VALUE=URI;X-ADDRESS=Schlesische Str. 41\, 10997
  Berlin\, Deutschland;X-APPLE-RADIUS=100;X-TITLE=LUX:geo:52.500417,13.4437
 79
END:VEVENT
BEGIN:VTIMEZONE
TZID:Europe/Berlin
X-LIC-LOCATION:Europe/Berlin
BEGIN:DAYLIGHT
DTSTART:20240331T030000
TZOFFSETFROM:+0100
TZOFFSETTO:+0200
TZNAME:CEST
END:DAYLIGHT
END:VTIMEZONE
END:VCALENDAR