BEGIN:VCALENDAR
VERSION:2.0
PRODID:-//wp-events-plugin.com//7.2.3.1//EN
TZID:Europe/Berlin
X-WR-TIMEZONE:Europe/Berlin
BEGIN:VEVENT
UID:0-1076@gruene-xhain.de
DTSTART;TZID=Europe/Berlin:20241126T190000
DTEND;TZID=Europe/Berlin:20241126T213000
DTSTAMP:20241028T140527Z
URL:https://gruene-xhain.de/veranstaltungen/themenabend-2-2024-11-26/
SUMMARY:Vielfalt trifft Politik  - Vernetzungstreffen vielfaltspolitischer 
 Initiativen
DESCRIPTION:Am 26.11.24 ab 19 Uhr laden das Vielfaltsteam* und der Kreisver
 band Friedrichshain-Kreuzberg von Bündnis 90/die Grünen zu unserem erste
 n Vernetzungstreffen für zivilgesellschaftliche Organisationen in und um 
 den Kreisverband ein. Unser Ziel ist die Vernetzung unter zivilgesellschaf
 tlichen Akteur*innen und Politiker*innen auf Kommunal-\, Landes- und Bunde
 sebene. Im Rahmen unserer Veranstaltung möchten wir Austausch über konkr
 ete Bedarfe und Erwartungen im Bereich Diversitätspolitik ermöglichen un
 d anregen. Gerne können Initiativen\, Vereine teilnehmen. Eine Anmeldung 
 ist erforderlich. Schreibt dazu bis zum 19.11.24 eine Mail an vielfaltstea
 m@greuene-xhain.de\n\n&nbsp\;\n\n* das Vielfaltspolitische Team Friedrichs
 hain-Kreuzberg wurde am 17.02.24 zum ersten Mal gewählt. Als gewähltes G
 remium ist es unsere Aufgabe\, vielfältige Perspektiven in den Kreisverba
 nd einzubringen. Unser Schwerpunkt liegt auf dem Ausbau der Vernetzung run
 d um Anti-Rassismus und Anti-Diskriminierung im und um den Kreisverband. D
 afür treffen wir mit zivilgesellschaftlichen Akteur*innen\, Vereinen und 
 Initiativen zusammen und Vereinen ihre Expertise unter unserem grünen Dac
 h.\nhttps://gruene-xhain.de/ueber-uns/vielfaltspolitisches-team/
ATTACH;FMTTYPE=image/jpeg:https://gruene-xhain.de/wp-content/uploads/2024/
 05/Bezirksgruppe14.jpg
LOCATION:LUX\, Schlesische Str. 41\, 10997 Berlin\, Deutschland
GEO:52.500417;13.443779
X-APPLE-STRUCTURED-LOCATION;VALUE=URI;X-ADDRESS=Schlesische Str. 41\, 10997
  Berlin\, Deutschland;X-APPLE-RADIUS=100;X-TITLE=LUX:geo:52.500417,13.4437
 79
END:VEVENT
BEGIN:VTIMEZONE
TZID:Europe/Berlin
X-LIC-LOCATION:Europe/Berlin
BEGIN:STANDARD
DTSTART:20241027T020000
TZOFFSETFROM:+0200
TZOFFSETTO:+0100
TZNAME:CET
END:STANDARD
END:VTIMEZONE
END:VCALENDAR