BEGIN:VCALENDAR
VERSION:2.0
PRODID:-//wp-events-plugin.com//7.2.3.1//EN
TZID:Europe/Berlin
X-WR-TIMEZONE:Europe/Berlin
BEGIN:VEVENT
UID:0-1078@gruene-xhain.de
DTSTART;TZID=Europe/Berlin:20250128T190000
DTEND;TZID=Europe/Berlin:20250128T211500
DTSTAMP:20250123T094725Z
URL:https://gruene-xhain.de/veranstaltungen/themenabend-2-2025-01-28/
SUMMARY:Themenabend „5 Jahre nach dem Berliner Mietendeckel - Diskussions
 abend mit Andrej Holm“
DESCRIPTION:Liebe Freund*innen\,\n\nWir laden wir euch herzlich zu unserer 
 nächsten Themenabend „5 Jahre nach dem Berliner Mietendeckel - Diskussi
 onsabend mit Andrej Holm“ am 28.01. ab 19:00 Uhr ins L.U.X (Schlesische 
 Str. 41\, 10997) ein. An diesem Abend wollen wir zunächst gemeinsam auf d
 en bisherigen Wahlkampf zurückblicken. Lasst uns zusammen die bisherigen 
 Momente unseres Wahlkampfes feiern und herausfinden\, wo wir noch besser w
 erden können\, um unsere Vision für eine grünere und gerechtere Zukunft
  überzeugend zu vertreten.\n\nIn einem zweiten Teil diskutieren wir mit E
 uch unser mietenpolitisches Programm für den Bundestag. Fünf Jahre nach 
 dem Scheitern des Mietendeckels wollen wir gemeinsam mit dem Stadtsoziolog
 en Andrej Holm und Katrin unsere Ideen besprechen und was auf Bundesebene 
 passieren muss\, damit Wohnen wieder bezahlbar wird. Danach sind wir gewap
 pnet\, um in der heißen Wahlkampfphase noch kraftvoller durchzustarten! M
 it dabei sind: Katrin Schmidberger\, Direktkandidatin für den Bundestag (
 Friedrichshain-Kreuzberg &amp\; Prenzlauer Berg Ost) und\nAndrej Holm\, St
 adtsoziologe &amp\; Aktivist\n\nVorläufige Tagesordnung:\n1. Aktuelles\n2
 . Mietendeckel\, Mietenstopp &amp\; Co - Politischer Wahlkampf in Xhain &a
 mp\; PBerg-Ost\n- Rückschau &amp\; Ausblick Wahlkampf - persönlicher Aus
 tausch\n\n- Mietenpolitisches Programm - mit Andrej Holm\n\n- Ausklang &am
 p\; offener Tresen\n\n3. Termine und Sonstiges\n\n&nbsp\;\n\nOb Wahlkampfn
 euling oder erfahrene*r Mitstreiter*in – deine Perspektive zählt und ma
 cht den Unterschied! Komm vorbei\, mach und diskutiere mit und lass dich i
 nspirieren.\n\nHinweise:\nEure Teilnahme ist uns sehr wichtig\, egal ob ih
 r schon lange Mitglied oder gerade erst beigetreten seid. Solltet ihr nich
 t persönlich teilnehmen können\, freuen wir uns über eure Gedanken und 
 Anregungen per E-Mail an info@gruene-xhain.de.\nFür Gebärdendolmetschen 
 und Kinderbetreuung bitten wir um eine vorherige Anmeldung (spätestens ei
 ne Woche vorher) unter info@gruene-xhain.de\n\nHybridformat:\nIm Zuge eine
 r besseren Vereinbarkeit und Zugänglichkeit bieten wir euch auch einen Li
 vestream der Veranstaltung an. Es wird euch dabei auch ermöglicht\, Frage
 n zu stellen:https://eu02web.zoom-x.de/j/65542447309?pwd=dk1sMWpHRExRSXBDc
 E4rc0VSZnN6UT09\nMeeting-ID: 655 4244 7309\nKenncode: 213334\n\n&nbsp\;\n\
 nMit stachligen Grüßen\,\nAlena\, Alina\, Clara\, Jenny\, Kübra\, Milan
  und Monika für den geschäftsführenden Ausschuss (GA)
ATTACH;FMTTYPE=image/jpeg:https://gruene-xhain.de/wp-content/uploads/2024/
 05/Bezirksgruppe13.jpg
LOCATION:LUX\, Schlesische Str. 41\, 10997 Berlin\, Deutschland
GEO:52.500417;13.443779
X-APPLE-STRUCTURED-LOCATION;VALUE=URI;X-ADDRESS=Schlesische Str. 41\, 10997
  Berlin\, Deutschland;X-APPLE-RADIUS=100;X-TITLE=LUX:geo:52.500417,13.4437
 79
END:VEVENT
BEGIN:VTIMEZONE
TZID:Europe/Berlin
X-LIC-LOCATION:Europe/Berlin
BEGIN:STANDARD
DTSTART:20241027T020000
TZOFFSETFROM:+0200
TZOFFSETTO:+0100
TZNAME:CET
END:STANDARD
END:VTIMEZONE
END:VCALENDAR