BEGIN:VCALENDAR
VERSION:2.0
PRODID:-//wp-events-plugin.com//7.2.3.1//EN
TZID:Europe/Berlin
X-WR-TIMEZONE:Europe/Berlin
BEGIN:VEVENT
UID:0-1039@gruene-xhain.de
DTSTART;TZID=Europe/Berlin:20240229T000000
DTEND;TZID=Europe/Berlin:20240229T000000
DTSTAMP:20240227T145733Z
URL:https://gruene-xhain.de/veranstaltungen/treffen-des-vielfaltspolitisch
 en-teams-digital/
SUMMARY:Treffen des Vielfaltspolitischen Teams - digital -
DESCRIPTION:Das Vielfaltspolitische Team ist ein gewähltes Gremium in Frie
 drichshain-Kreuzberg und beschäftigt sich mit Vielfältigkeit\, Toleranz 
 und Anti-Diskriminierung in unserem Kreisverband.\n\nWenn du auch Teil des
  vielfaltspolitischen Teams werden möchtest kannst du dich jederzeit an d
 en Geschäftsführenden Auschuss oder die Geschäftsstelle wenden\, um die
  Informationen dazu einzuholen!\n\n&nbsp\;
ATTACH;FMTTYPE=image/jpeg:https://gruene-xhain.de/wp-content/uploads/2024/
 02/einmalige-Veranstaltungen26.jpg
END:VEVENT
BEGIN:VTIMEZONE
TZID:Europe/Berlin
X-LIC-LOCATION:Europe/Berlin
BEGIN:STANDARD
DTSTART:20231029T020000
TZOFFSETFROM:+0200
TZOFFSETTO:+0100
TZNAME:CET
END:STANDARD
END:VTIMEZONE
END:VCALENDAR