BEGIN:VCALENDAR
VERSION:2.0
PRODID:-//wp-events-plugin.com//7.2.3.1//EN
TZID:Europe/Berlin
X-WR-TIMEZONE:Europe/Berlin
BEGIN:VEVENT
UID:0-1968@gruene-xhain.de
DTSTART;TZID=Europe/Berlin:20250621T140000
DTEND;TZID=Europe/Berlin:20250621T150000
DTSTAMP:20250616T093449Z
URL:https://gruene-xhain.de/veranstaltungen/zuhoer-kampagne/
SUMMARY:Zuhör Aktionstag
DESCRIPTION:⁨Berlin hat was zu sagen! Wir brauchen dich beim Zuhör-Aktio
 nstag am 21.06. um 14Uhr.\n\nIhr Lieben\, am kommenden Samstag gehen wir G
 RÜNE in allen 12 Bezirken auf die Straße um den Berliner*innen zuzuhöre
 n und über ihre Anliegen zu sprechen. Sei auch du dabei in deinem Kiez in
  Xhain bei folgenden Ständen.\n\n1. Fürbringerstraße zwischen Mittenwal
 der und Schleiermacherstraße\n2. Wiener Straße 35\n3. Oranienplatz\n4. E
 DEKA Andreasstraße\n5. Forckenbeckplatz\n6. Niederbarnimstraße\n\nDer Ak
 tionstag findet parallel zur Fête de la Musique statt\, daher erwarten wi
 r nicht nur regen Besuch an den Ständen\, sondern freuen uns auch darauf\
 , gemeinsam mit euch dieses Fest zu genießen. Seid dabei\, wenn wir Präs
 enz zeigen und mit den Berliner*innen die Themen besprechen\, die ihnen am
  Herzen liegen.\n\nMeldet euch bei @Jenny Laube (Jenny.Laube@gruene-xhain.
 de) oder kommt zu einem der sechs Treffpunkte.\n\nLasst uns gemeinsam zeig
 en: Berlin hat was zu sagen\, und wir hören zu!⁩
ATTACH;FMTTYPE=image/jpeg:https://gruene-xhain.de/wp-content/uploads/2025/
 06/einmalige-Veranstaltungen-1080-x-1350-px22.jpg
END:VEVENT
BEGIN:VTIMEZONE
TZID:Europe/Berlin
X-LIC-LOCATION:Europe/Berlin
BEGIN:DAYLIGHT
DTSTART:20250330T030000
TZOFFSETFROM:+0100
TZOFFSETTO:+0200
TZNAME:CEST
END:DAYLIGHT
END:VTIMEZONE
END:VCALENDAR